BEGIN:VCALENDAR
VERSION:2.0
PRODID:-//Quartier Brabant Buurt - ECPv6.15.20//NONSGML v1.0//EN
CALSCALE:GREGORIAN
METHOD:PUBLISH
X-ORIGINAL-URL:https://buurtinfoquartier.be/nl/
X-WR-CALDESC:Evenementen voor Quartier Brabant Buurt
REFRESH-INTERVAL;VALUE=DURATION:PT1H
X-Robots-Tag:noindex
X-PUBLISHED-TTL:PT1H
BEGIN:VTIMEZONE
TZID:Europe/Brussels
BEGIN:DAYLIGHT
TZOFFSETFROM:+0100
TZOFFSETTO:+0200
TZNAME:CEST
DTSTART:20250330T010000
END:DAYLIGHT
BEGIN:STANDARD
TZOFFSETFROM:+0200
TZOFFSETTO:+0100
TZNAME:CET
DTSTART:20251026T010000
END:STANDARD
BEGIN:DAYLIGHT
TZOFFSETFROM:+0100
TZOFFSETTO:+0200
TZNAME:CEST
DTSTART:20260329T010000
END:DAYLIGHT
BEGIN:STANDARD
TZOFFSETFROM:+0200
TZOFFSETTO:+0100
TZNAME:CET
DTSTART:20261025T010000
END:STANDARD
BEGIN:DAYLIGHT
TZOFFSETFROM:+0100
TZOFFSETTO:+0200
TZNAME:CEST
DTSTART:20270328T010000
END:DAYLIGHT
BEGIN:STANDARD
TZOFFSETFROM:+0200
TZOFFSETTO:+0100
TZNAME:CET
DTSTART:20271031T010000
END:STANDARD
END:VTIMEZONE
BEGIN:VEVENT
DTSTART;TZID=Europe/Brussels:20260318T100000
DTEND;TZID=Europe/Brussels:20260318T180000
DTSTAMP:20260422T234843
CREATED:20250313T143919Z
LAST-MODIFIED:20250701T123105Z
UID:10004637-1773828000-1773856800@buurtinfoquartier.be
SUMMARY:Espace Public Numérique Brabant
DESCRIPTION:Espace ouvert à tout le monde\, avec des ordinateurs\, internet etquelqu’un pour vous aider. Gratuit et sans rendez-vous. \n\n\n\nVoire l’affiche pour l’horraire des activités. Info : 0471 98 30 96 – EPN Brabant
URL:https://buurtinfoquartier.be/nl/agenda/espace-public-numerique-brabant/2026-03-18/
ATTACH;FMTTYPE=image/jpeg:https://buurtinfoquartier.be/wp-content/uploads/2025/03/EPN-OCR-Brabant_Affiche_JUIN-2025.jpg
END:VEVENT
BEGIN:VEVENT
DTSTART;TZID=Europe/Brussels:20260318T093000
DTEND;TZID=Europe/Brussels:20260318T113000
DTSTAMP:20260422T234843
CREATED:20251028T103210Z
LAST-MODIFIED:20251028T103213Z
UID:10006197-1773826200-1773833400@buurtinfoquartier.be
SUMMARY:Les Pâtes au Beurre
DESCRIPTION:Un lieu de parole et de partage collectif anonyme\, sans rendez-vous pour des parents avec enfants sans limite d’âge. Encadré par des psychologues\, psychomotricienne.
URL:https://buurtinfoquartier.be/nl/agenda/les-pates-au-beurre-2/2026-03-18/
LOCATION:Maison des Parents\, rue Dupont 20\, Schaerbeek\, 1030\, Belgique
CATEGORIES:Activités
ATTACH;FMTTYPE=image/jpeg:https://buurtinfoquartier.be/wp-content/uploads/2025/10/Logo-Les-Pates-au-Beurre.jpg
END:VEVENT
BEGIN:VEVENT
DTSTART;TZID=Europe/Brussels:20260317T133000
DTEND;TZID=Europe/Brussels:20260317T173000
DTSTAMP:20260422T234843
CREATED:20240925T142937Z
LAST-MODIFIED:20250313T071609Z
UID:10001419-1773754200-1773768600@buurtinfoquartier.be
SUMMARY:Pshychomotricité parents-enfants
DESCRIPTION:Sur inscription – gratuit \n\n\n\nContact: Astrid Galliot au 0484 81 55 85
URL:https://buurtinfoquartier.be/nl/agenda/pshychomotricite-parents-enfants/2026-03-17/
LOCATION:Maison des Parents\, rue Dupont 20\, Schaerbeek\, 1030\, Belgique
CATEGORIES:Activités
ATTACH;FMTTYPE=image/png:https://buurtinfoquartier.be/wp-content/uploads/2024/09/Pictos-GTa-info-13-e1727970744909.png
END:VEVENT
BEGIN:VEVENT
DTSTART;TZID=Europe/Brussels:20260317T100000
DTEND;TZID=Europe/Brussels:20260317T180000
DTSTAMP:20260422T234843
CREATED:20250313T143919Z
LAST-MODIFIED:20250701T123105Z
UID:10004636-1773741600-1773770400@buurtinfoquartier.be
SUMMARY:Espace Public Numérique Brabant
DESCRIPTION:Espace ouvert à tout le monde\, avec des ordinateurs\, internet etquelqu’un pour vous aider. Gratuit et sans rendez-vous. \n\n\n\nVoire l’affiche pour l’horraire des activités. Info : 0471 98 30 96 – EPN Brabant
URL:https://buurtinfoquartier.be/nl/agenda/espace-public-numerique-brabant/2026-03-17/
ATTACH;FMTTYPE=image/jpeg:https://buurtinfoquartier.be/wp-content/uploads/2025/03/EPN-OCR-Brabant_Affiche_JUIN-2025.jpg
END:VEVENT
BEGIN:VEVENT
DTSTART;TZID=Europe/Brussels:20260317T093000
DTEND;TZID=Europe/Brussels:20260317T120000
DTSTAMP:20260422T234843
CREATED:20250313T071118Z
LAST-MODIFIED:20250313T071120Z
UID:10000898-1773739800-1773748800@buurtinfoquartier.be
SUMMARY:Comité des femmes
DESCRIPTION:Echanges et rencontres entre femmes autour d’une activité ou un café. \n\n\n\nSur inscription – gratuit \n\n\n\nContact: Maud Verjus ou Nathalie Thomas au 02 218 56 08
URL:https://buurtinfoquartier.be/nl/agenda/comite-des-femmes-2/2026-03-17/
LOCATION:Maison des Parents\, rue Dupont 20\, Schaerbeek\, 1030\, Belgique
CATEGORIES:Activités
ATTACH;FMTTYPE=image/jpeg:https://buurtinfoquartier.be/wp-content/uploads/2024/09/Pictos-GTa-info-e1727970140216.jpg
END:VEVENT
BEGIN:VEVENT
DTSTART;TZID=Europe/Brussels:20260316T140000
DTEND;TZID=Europe/Brussels:20260316T160000
DTSTAMP:20260422T234843
CREATED:20251028T103056Z
LAST-MODIFIED:20251028T103100Z
UID:10005936-1773669600-1773676800@buurtinfoquartier.be
SUMMARY:Groupe Bag
DESCRIPTION:Atelier psychocorporel\, contes et art-thérapie pour femmes.
URL:https://buurtinfoquartier.be/nl/agenda/groupe-bag/2026-03-16/
LOCATION:Maison des Parents\, rue Dupont 20\, Schaerbeek\, 1030\, Belgique
CATEGORIES:Activités
ATTACH;FMTTYPE=image/jpeg:https://buurtinfoquartier.be/wp-content/uploads/2024/08/Logo-Atouts-Parents.jpg
END:VEVENT
BEGIN:VEVENT
DTSTART;TZID=Europe/Brussels:20260316T100000
DTEND;TZID=Europe/Brussels:20260316T180000
DTSTAMP:20260422T234843
CREATED:20250313T143919Z
LAST-MODIFIED:20250701T123105Z
UID:10004635-1773655200-1773684000@buurtinfoquartier.be
SUMMARY:Espace Public Numérique Brabant
DESCRIPTION:Espace ouvert à tout le monde\, avec des ordinateurs\, internet etquelqu’un pour vous aider. Gratuit et sans rendez-vous. \n\n\n\nVoire l’affiche pour l’horraire des activités. Info : 0471 98 30 96 – EPN Brabant
URL:https://buurtinfoquartier.be/nl/agenda/espace-public-numerique-brabant/2026-03-16/
ATTACH;FMTTYPE=image/jpeg:https://buurtinfoquartier.be/wp-content/uploads/2025/03/EPN-OCR-Brabant_Affiche_JUIN-2025.jpg
END:VEVENT
BEGIN:VEVENT
DTSTART;TZID=Europe/Brussels:20260316T090000
DTEND;TZID=Europe/Brussels:20260316T170000
DTSTAMP:20260422T234843
CREATED:20251017T091603Z
LAST-MODIFIED:20251017T091609Z
UID:10005813-1773651600-1773680400@buurtinfoquartier.be
SUMMARY:Ciné-Impact : s’exprimer\, créer\, se projeter
DESCRIPTION:Parcours de création audiovisuelle participative ouvert à toutes et tous (jeunes\, adultes\, femmes) sans prérequis techniques. Pendant six mois\, les participant.e.s seront accompagné.e.s dans toutes les étapes de réalisation d’un court-métrage : écriture\, tournage\, montage et diffusion. Le film\, ancré dans la réalité du quartier Brabant Nord à Schaerbeek\, sera projeté publiquement à l’automne 2026. \n\n\n\nContact / Informations : ceicrpasbl@gmail.com – +32 472 04 05 01 \n\n\n\nObjectif : Favoriser l’expression personnelle et collective\, renforcer le lien social et valoriser les habitant·e·s du quartier. \n\n\n\nPériode : septembre 2025 – avril 2026 \n\n\n\nLieu : Espace 58\, rue Dupont 58\, Schaerbeek \n\n\n\nOrganisé par : L’équipe 58 et Mobile – Travailleurs sociaux de rue\, en collaboration avec l’ASBL Studio 124
URL:https://buurtinfoquartier.be/nl/agenda/cine-impact-sexprimer-creer-se-projeter/2026-03-16/
ATTACH;FMTTYPE=image/jpeg:https://buurtinfoquartier.be/wp-content/uploads/2025/03/Facade-TSR-58.jpg
END:VEVENT
BEGIN:VEVENT
DTSTART;TZID=Europe/Brussels:20260316T090000
DTEND;TZID=Europe/Brussels:20260316T110000
DTSTAMP:20260422T234843
CREATED:20240925T141512Z
LAST-MODIFIED:20250313T070728Z
UID:10000637-1773651600-1773658800@buurtinfoquartier.be
SUMMARY:Café Papote des parents
DESCRIPTION:Pour prendre du temps pour soi et échanger avec d’autres parents. \n\n\n\nContact: Sonia de Clerck \n\n\n\n 
URL:https://buurtinfoquartier.be/nl/agenda/cafe-papote/2026-03-16/
LOCATION:Maison des Parents\, rue Dupont 20\, Schaerbeek\, 1030\, Belgique
CATEGORIES:Activités
ATTACH;FMTTYPE=image/png:https://buurtinfoquartier.be/wp-content/uploads/2024/09/Pictos-GTa-info-11.png
END:VEVENT
BEGIN:VEVENT
DTSTART;TZID=Europe/Brussels:20260315T140000
DTEND;TZID=Europe/Brussels:20260315T160000
DTSTAMP:20260422T234843
CREATED:20250307T130159Z
LAST-MODIFIED:20250313T070609Z
UID:10002544-1773583200-1773590400@buurtinfoquartier.be
SUMMARY:Aterliers Hiphop
DESCRIPTION:Cours de Breakdance\, graffiti\, rap\, beatbox… C’est gratuit. \n\n\n\nTous les samedis et dimanches de 14h à 16h.
URL:https://buurtinfoquartier.be/nl/agenda/aterliers-hiphop/2026-03-15/
LOCATION:TRACK\, Rue du Progrès 76\, Schaerbeek\, 1030\, Belgique
ATTACH;FMTTYPE=image/jpeg:https://buurtinfoquartier.be/wp-content/uploads/2025/03/Visuel-HHS-2025.TRACK-photo.jpg
END:VEVENT
BEGIN:VEVENT
DTSTART;TZID=Europe/Brussels:20260314T140000
DTEND;TZID=Europe/Brussels:20260314T160000
DTSTAMP:20260422T234843
CREATED:20250307T130159Z
LAST-MODIFIED:20250313T070609Z
UID:10002543-1773496800-1773504000@buurtinfoquartier.be
SUMMARY:Aterliers Hiphop
DESCRIPTION:Cours de Breakdance\, graffiti\, rap\, beatbox… C’est gratuit. \n\n\n\nTous les samedis et dimanches de 14h à 16h.
URL:https://buurtinfoquartier.be/nl/agenda/aterliers-hiphop/2026-03-14/
LOCATION:TRACK\, Rue du Progrès 76\, Schaerbeek\, 1030\, Belgique
ATTACH;FMTTYPE=image/jpeg:https://buurtinfoquartier.be/wp-content/uploads/2025/03/Visuel-HHS-2025.TRACK-photo.jpg
END:VEVENT
BEGIN:VEVENT
DTSTART;TZID=Europe/Brussels:20260313T150000
DTEND;TZID=Europe/Brussels:20260313T170000
DTSTAMP:20260422T234843
CREATED:20251028T105634Z
LAST-MODIFIED:20251028T105636Z
UID:10006346-1773414000-1773421200@buurtinfoquartier.be
SUMMARY:Bibliothèque et ludothèque
DESCRIPTION:Venez découvrir 165 jeux pour tous les âges\, de 0 à 99 ans\, ainsi qu’une sélection de livres pour les enfants de 2\,5 à 12 ans\, et quelques ouvrages pour les adolescents. Emprunter des jeux et des livres ou simplement lire et jouer sur place\, c’est à vous de choisir !
URL:https://buurtinfoquartier.be/nl/agenda/bibliotheque-et-ludotheque-2/2026-03-13/
LOCATION:Maison des Parents\, rue Dupont 20\, Schaerbeek\, 1030\, Belgique
CATEGORIES:Activités
ATTACH;FMTTYPE=image/jpeg:https://buurtinfoquartier.be/wp-content/uploads/2025/10/Affiche-ludotheque-maison-des-parents-15.10.2025.jpg
END:VEVENT
BEGIN:VEVENT
DTSTART;TZID=Europe/Brussels:20260313T100000
DTEND;TZID=Europe/Brussels:20260313T180000
DTSTAMP:20260422T234843
CREATED:20250313T143919Z
LAST-MODIFIED:20250701T123105Z
UID:10004634-1773396000-1773424800@buurtinfoquartier.be
SUMMARY:Espace Public Numérique Brabant
DESCRIPTION:Espace ouvert à tout le monde\, avec des ordinateurs\, internet etquelqu’un pour vous aider. Gratuit et sans rendez-vous. \n\n\n\nVoire l’affiche pour l’horraire des activités. Info : 0471 98 30 96 – EPN Brabant
URL:https://buurtinfoquartier.be/nl/agenda/espace-public-numerique-brabant/2026-03-13/
ATTACH;FMTTYPE=image/jpeg:https://buurtinfoquartier.be/wp-content/uploads/2025/03/EPN-OCR-Brabant_Affiche_JUIN-2025.jpg
END:VEVENT
BEGIN:VEVENT
DTSTART;TZID=Europe/Brussels:20260312T160000
DTEND;TZID=Europe/Brussels:20260312T180000
DTSTAMP:20260422T234843
CREATED:20251028T103452Z
LAST-MODIFIED:20251028T103455Z
UID:10006245-1773331200-1773338400@buurtinfoquartier.be
SUMMARY:Les Pâtes au Beurre
DESCRIPTION:Un lieu de parole et de partage collectif anonyme\, sans rendez-vous pour des parents avec enfants sans limite d’âge. Encadré par des psychologues\, psychomotricienne.
URL:https://buurtinfoquartier.be/nl/agenda/les-pates-au-beurre-3/2026-03-12/
LOCATION:Maison des Parents\, rue Dupont 20\, Schaerbeek\, 1030\, Belgique
CATEGORIES:Activités
ATTACH;FMTTYPE=image/jpeg:https://buurtinfoquartier.be/wp-content/uploads/2025/10/Logo-Les-Pates-au-Beurre.jpg
END:VEVENT
BEGIN:VEVENT
DTSTART;TZID=Europe/Brussels:20260312T100000
DTEND;TZID=Europe/Brussels:20260312T180000
DTSTAMP:20260422T234843
CREATED:20250313T143919Z
LAST-MODIFIED:20250701T123105Z
UID:10004633-1773309600-1773338400@buurtinfoquartier.be
SUMMARY:Espace Public Numérique Brabant
DESCRIPTION:Espace ouvert à tout le monde\, avec des ordinateurs\, internet etquelqu’un pour vous aider. Gratuit et sans rendez-vous. \n\n\n\nVoire l’affiche pour l’horraire des activités. Info : 0471 98 30 96 – EPN Brabant
URL:https://buurtinfoquartier.be/nl/agenda/espace-public-numerique-brabant/2026-03-12/
ATTACH;FMTTYPE=image/jpeg:https://buurtinfoquartier.be/wp-content/uploads/2025/03/EPN-OCR-Brabant_Affiche_JUIN-2025.jpg
END:VEVENT
BEGIN:VEVENT
DTSTART;TZID=Europe/Brussels:20260311T153000
DTEND;TZID=Europe/Brussels:20260311T170000
DTSTAMP:20260422T234843
CREATED:20251028T105351Z
LAST-MODIFIED:20251028T105355Z
UID:10006297-1773243000-1773248400@buurtinfoquartier.be
SUMMARY:Bibliothèque et ludothèque
DESCRIPTION:Venez découvrir 165 jeux pour tous les âges\, de 0 à 99 ans\, ainsi qu’une sélection de livres pour les enfants de 2\,5 à 12 ans\, et quelques ouvrages pour les adolescents. Emprunter des jeux et des livres ou simplement lire et jouer sur place\, c’est à vous de choisir !
URL:https://buurtinfoquartier.be/nl/agenda/bibliotheque-et-ludotheque/2026-03-11/
LOCATION:Maison des Parents\, rue Dupont 20\, Schaerbeek\, 1030\, Belgique
CATEGORIES:Activités
ATTACH;FMTTYPE=image/jpeg:https://buurtinfoquartier.be/wp-content/uploads/2025/10/Affiche-ludotheque-maison-des-parents-15.10.2025.jpg
END:VEVENT
BEGIN:VEVENT
DTSTART;TZID=Europe/Brussels:20260311T130000
DTEND;TZID=Europe/Brussels:20260311T170000
DTSTAMP:20260422T234843
CREATED:20250109T125127Z
LAST-MODIFIED:20251110T083746Z
UID:10002224-1773234000-1773248400@buurtinfoquartier.be
SUMMARY:Activités enfants 6-12 ans
DESCRIPTION:Activité accueil temps libre pour les enfants de 6 à 12 ans. Inscription obligatoire. \n\n\n\nOrganisé par l’ASBL Avenir
URL:https://buurtinfoquartier.be/nl/agenda/activite-enfant-6-12-ans/2026-03-11/
LOCATION:Rue du Moulin\, 150\, 1210 Saint-Josse-ten-Noode\, Rue du Moulin\, 150\, Saint-Josse-ten-Noode\, 1210\, Belgique
CATEGORIES:Activités
ATTACH;FMTTYPE=image/jpeg:https://buurtinfoquartier.be/wp-content/uploads/2025/01/masque1.jpg
END:VEVENT
BEGIN:VEVENT
DTSTART;TZID=Europe/Brussels:20260311T100000
DTEND;TZID=Europe/Brussels:20260311T180000
DTSTAMP:20260422T234843
CREATED:20250313T143919Z
LAST-MODIFIED:20250701T123105Z
UID:10004632-1773223200-1773252000@buurtinfoquartier.be
SUMMARY:Espace Public Numérique Brabant
DESCRIPTION:Espace ouvert à tout le monde\, avec des ordinateurs\, internet etquelqu’un pour vous aider. Gratuit et sans rendez-vous. \n\n\n\nVoire l’affiche pour l’horraire des activités. Info : 0471 98 30 96 – EPN Brabant
URL:https://buurtinfoquartier.be/nl/agenda/espace-public-numerique-brabant/2026-03-11/
ATTACH;FMTTYPE=image/jpeg:https://buurtinfoquartier.be/wp-content/uploads/2025/03/EPN-OCR-Brabant_Affiche_JUIN-2025.jpg
END:VEVENT
BEGIN:VEVENT
DTSTART;TZID=Europe/Brussels:20260311T093000
DTEND;TZID=Europe/Brussels:20260311T113000
DTSTAMP:20260422T234843
CREATED:20251028T103210Z
LAST-MODIFIED:20251028T103213Z
UID:10006196-1773221400-1773228600@buurtinfoquartier.be
SUMMARY:Les Pâtes au Beurre
DESCRIPTION:Un lieu de parole et de partage collectif anonyme\, sans rendez-vous pour des parents avec enfants sans limite d’âge. Encadré par des psychologues\, psychomotricienne.
URL:https://buurtinfoquartier.be/nl/agenda/les-pates-au-beurre-2/2026-03-11/
LOCATION:Maison des Parents\, rue Dupont 20\, Schaerbeek\, 1030\, Belgique
CATEGORIES:Activités
ATTACH;FMTTYPE=image/jpeg:https://buurtinfoquartier.be/wp-content/uploads/2025/10/Logo-Les-Pates-au-Beurre.jpg
END:VEVENT
BEGIN:VEVENT
DTSTART;TZID=Europe/Brussels:20260310T133000
DTEND;TZID=Europe/Brussels:20260310T173000
DTSTAMP:20260422T234843
CREATED:20240925T142937Z
LAST-MODIFIED:20250313T071609Z
UID:10001418-1773149400-1773163800@buurtinfoquartier.be
SUMMARY:Pshychomotricité parents-enfants
DESCRIPTION:Sur inscription – gratuit \n\n\n\nContact: Astrid Galliot au 0484 81 55 85
URL:https://buurtinfoquartier.be/nl/agenda/pshychomotricite-parents-enfants/2026-03-10/
LOCATION:Maison des Parents\, rue Dupont 20\, Schaerbeek\, 1030\, Belgique
CATEGORIES:Activités
ATTACH;FMTTYPE=image/png:https://buurtinfoquartier.be/wp-content/uploads/2024/09/Pictos-GTa-info-13-e1727970744909.png
END:VEVENT
BEGIN:VEVENT
DTSTART;TZID=Europe/Brussels:20260310T100000
DTEND;TZID=Europe/Brussels:20260310T180000
DTSTAMP:20260422T234843
CREATED:20250313T143919Z
LAST-MODIFIED:20250701T123105Z
UID:10004631-1773136800-1773165600@buurtinfoquartier.be
SUMMARY:Espace Public Numérique Brabant
DESCRIPTION:Espace ouvert à tout le monde\, avec des ordinateurs\, internet etquelqu’un pour vous aider. Gratuit et sans rendez-vous. \n\n\n\nVoire l’affiche pour l’horraire des activités. Info : 0471 98 30 96 – EPN Brabant
URL:https://buurtinfoquartier.be/nl/agenda/espace-public-numerique-brabant/2026-03-10/
ATTACH;FMTTYPE=image/jpeg:https://buurtinfoquartier.be/wp-content/uploads/2025/03/EPN-OCR-Brabant_Affiche_JUIN-2025.jpg
END:VEVENT
BEGIN:VEVENT
DTSTART;TZID=Europe/Brussels:20260310T093000
DTEND;TZID=Europe/Brussels:20260310T120000
DTSTAMP:20260422T234843
CREATED:20250313T071118Z
LAST-MODIFIED:20250313T071120Z
UID:10000897-1773135000-1773144000@buurtinfoquartier.be
SUMMARY:Comité des femmes
DESCRIPTION:Echanges et rencontres entre femmes autour d’une activité ou un café. \n\n\n\nSur inscription – gratuit \n\n\n\nContact: Maud Verjus ou Nathalie Thomas au 02 218 56 08
URL:https://buurtinfoquartier.be/nl/agenda/comite-des-femmes-2/2026-03-10/
LOCATION:Maison des Parents\, rue Dupont 20\, Schaerbeek\, 1030\, Belgique
CATEGORIES:Activités
ATTACH;FMTTYPE=image/jpeg:https://buurtinfoquartier.be/wp-content/uploads/2024/09/Pictos-GTa-info-e1727970140216.jpg
END:VEVENT
BEGIN:VEVENT
DTSTART;TZID=Europe/Brussels:20260309T140000
DTEND;TZID=Europe/Brussels:20260309T160000
DTSTAMP:20260422T234843
CREATED:20251028T103056Z
LAST-MODIFIED:20251028T103100Z
UID:10005935-1773064800-1773072000@buurtinfoquartier.be
SUMMARY:Groupe Bag
DESCRIPTION:Atelier psychocorporel\, contes et art-thérapie pour femmes.
URL:https://buurtinfoquartier.be/nl/agenda/groupe-bag/2026-03-09/
LOCATION:Maison des Parents\, rue Dupont 20\, Schaerbeek\, 1030\, Belgique
CATEGORIES:Activités
ATTACH;FMTTYPE=image/jpeg:https://buurtinfoquartier.be/wp-content/uploads/2024/08/Logo-Atouts-Parents.jpg
END:VEVENT
BEGIN:VEVENT
DTSTART;TZID=Europe/Brussels:20260309T100000
DTEND;TZID=Europe/Brussels:20260309T180000
DTSTAMP:20260422T234843
CREATED:20250313T143919Z
LAST-MODIFIED:20250701T123105Z
UID:10004630-1773050400-1773079200@buurtinfoquartier.be
SUMMARY:Espace Public Numérique Brabant
DESCRIPTION:Espace ouvert à tout le monde\, avec des ordinateurs\, internet etquelqu’un pour vous aider. Gratuit et sans rendez-vous. \n\n\n\nVoire l’affiche pour l’horraire des activités. Info : 0471 98 30 96 – EPN Brabant
URL:https://buurtinfoquartier.be/nl/agenda/espace-public-numerique-brabant/2026-03-09/
ATTACH;FMTTYPE=image/jpeg:https://buurtinfoquartier.be/wp-content/uploads/2025/03/EPN-OCR-Brabant_Affiche_JUIN-2025.jpg
END:VEVENT
BEGIN:VEVENT
DTSTART;TZID=Europe/Brussels:20260309T090000
DTEND;TZID=Europe/Brussels:20260309T110000
DTSTAMP:20260422T234843
CREATED:20240925T141512Z
LAST-MODIFIED:20250313T070728Z
UID:10000636-1773046800-1773054000@buurtinfoquartier.be
SUMMARY:Café Papote des parents
DESCRIPTION:Pour prendre du temps pour soi et échanger avec d’autres parents. \n\n\n\nContact: Sonia de Clerck \n\n\n\n 
URL:https://buurtinfoquartier.be/nl/agenda/cafe-papote/2026-03-09/
LOCATION:Maison des Parents\, rue Dupont 20\, Schaerbeek\, 1030\, Belgique
CATEGORIES:Activités
ATTACH;FMTTYPE=image/png:https://buurtinfoquartier.be/wp-content/uploads/2024/09/Pictos-GTa-info-11.png
END:VEVENT
BEGIN:VEVENT
DTSTART;TZID=Europe/Brussels:20260308T140000
DTEND;TZID=Europe/Brussels:20260308T160000
DTSTAMP:20260422T234843
CREATED:20250307T130159Z
LAST-MODIFIED:20250313T070609Z
UID:10002542-1772978400-1772985600@buurtinfoquartier.be
SUMMARY:Aterliers Hiphop
DESCRIPTION:Cours de Breakdance\, graffiti\, rap\, beatbox… C’est gratuit. \n\n\n\nTous les samedis et dimanches de 14h à 16h.
URL:https://buurtinfoquartier.be/nl/agenda/aterliers-hiphop/2026-03-08/
LOCATION:TRACK\, Rue du Progrès 76\, Schaerbeek\, 1030\, Belgique
ATTACH;FMTTYPE=image/jpeg:https://buurtinfoquartier.be/wp-content/uploads/2025/03/Visuel-HHS-2025.TRACK-photo.jpg
END:VEVENT
BEGIN:VEVENT
DTSTART;TZID=Europe/Brussels:20260307T140000
DTEND;TZID=Europe/Brussels:20260307T160000
DTSTAMP:20260422T234843
CREATED:20250307T130159Z
LAST-MODIFIED:20250313T070609Z
UID:10002541-1772892000-1772899200@buurtinfoquartier.be
SUMMARY:Aterliers Hiphop
DESCRIPTION:Cours de Breakdance\, graffiti\, rap\, beatbox… C’est gratuit. \n\n\n\nTous les samedis et dimanches de 14h à 16h.
URL:https://buurtinfoquartier.be/nl/agenda/aterliers-hiphop/2026-03-07/
LOCATION:TRACK\, Rue du Progrès 76\, Schaerbeek\, 1030\, Belgique
ATTACH;FMTTYPE=image/jpeg:https://buurtinfoquartier.be/wp-content/uploads/2025/03/Visuel-HHS-2025.TRACK-photo.jpg
END:VEVENT
BEGIN:VEVENT
DTSTART;TZID=Europe/Brussels:20260306T180000
DTEND;TZID=Europe/Brussels:20260306T210000
DTSTAMP:20260422T234843
CREATED:20260303T103805Z
LAST-MODIFIED:20260303T104004Z
UID:10006412-1772820000-1772830800@buurtinfoquartier.be
SUMMARY:Ciné-club "Ça s'débat"
DESCRIPTION:Droits sociaux : promo limitée\, dépêchez-vous ! \n\n\n\n \n\n\n\n18h : entrée et grignotage \n\n\n\n18h30 : projection \n\n\n\n20h00 : discussion avec les jeunes du collectif “ON Y VA” et les réalisatrices
URL:https://buurtinfoquartier.be/nl/agenda/cine-club-ca-sdebat-3/
LOCATION:Amazone\, rue du Méridien 10\, Saint-Josse\, Belgium
ATTACH;FMTTYPE=image/jpeg:https://buurtinfoquartier.be/wp-content/uploads/2026/03/ca-sdebat-mars-1.jpg
END:VEVENT
BEGIN:VEVENT
DTSTART;TZID=Europe/Brussels:20260306T150000
DTEND;TZID=Europe/Brussels:20260306T170000
DTSTAMP:20260422T234843
CREATED:20251028T105634Z
LAST-MODIFIED:20251028T105636Z
UID:10006345-1772809200-1772816400@buurtinfoquartier.be
SUMMARY:Bibliothèque et ludothèque
DESCRIPTION:Venez découvrir 165 jeux pour tous les âges\, de 0 à 99 ans\, ainsi qu’une sélection de livres pour les enfants de 2\,5 à 12 ans\, et quelques ouvrages pour les adolescents. Emprunter des jeux et des livres ou simplement lire et jouer sur place\, c’est à vous de choisir !
URL:https://buurtinfoquartier.be/nl/agenda/bibliotheque-et-ludotheque-2/2026-03-06/
LOCATION:Maison des Parents\, rue Dupont 20\, Schaerbeek\, 1030\, Belgique
CATEGORIES:Activités
ATTACH;FMTTYPE=image/jpeg:https://buurtinfoquartier.be/wp-content/uploads/2025/10/Affiche-ludotheque-maison-des-parents-15.10.2025.jpg
END:VEVENT
BEGIN:VEVENT
DTSTART;TZID=Europe/Brussels:20260306T100000
DTEND;TZID=Europe/Brussels:20260306T180000
DTSTAMP:20260422T234843
CREATED:20250313T143919Z
LAST-MODIFIED:20250701T123105Z
UID:10004629-1772791200-1772820000@buurtinfoquartier.be
SUMMARY:Espace Public Numérique Brabant
DESCRIPTION:Espace ouvert à tout le monde\, avec des ordinateurs\, internet etquelqu’un pour vous aider. Gratuit et sans rendez-vous. \n\n\n\nVoire l’affiche pour l’horraire des activités. Info : 0471 98 30 96 – EPN Brabant
URL:https://buurtinfoquartier.be/nl/agenda/espace-public-numerique-brabant/2026-03-06/
ATTACH;FMTTYPE=image/jpeg:https://buurtinfoquartier.be/wp-content/uploads/2025/03/EPN-OCR-Brabant_Affiche_JUIN-2025.jpg
END:VEVENT
END:VCALENDAR