BEGIN:VCALENDAR
VERSION:2.0
PRODID:-//Quartier Brabant Buurt - ECPv6.15.20//NONSGML v1.0//EN
CALSCALE:GREGORIAN
METHOD:PUBLISH
X-WR-CALNAME:Quartier Brabant Buurt
X-ORIGINAL-URL:https://buurtinfoquartier.be/nl/
X-WR-CALDESC:Evenementen voor Quartier Brabant Buurt
REFRESH-INTERVAL;VALUE=DURATION:PT1H
X-Robots-Tag:noindex
X-PUBLISHED-TTL:PT1H
BEGIN:VTIMEZONE
TZID:Europe/Brussels
BEGIN:DAYLIGHT
TZOFFSETFROM:+0100
TZOFFSETTO:+0200
TZNAME:CEST
DTSTART:20250330T010000
END:DAYLIGHT
BEGIN:STANDARD
TZOFFSETFROM:+0200
TZOFFSETTO:+0100
TZNAME:CET
DTSTART:20251026T010000
END:STANDARD
BEGIN:DAYLIGHT
TZOFFSETFROM:+0100
TZOFFSETTO:+0200
TZNAME:CEST
DTSTART:20260329T010000
END:DAYLIGHT
BEGIN:STANDARD
TZOFFSETFROM:+0200
TZOFFSETTO:+0100
TZNAME:CET
DTSTART:20261025T010000
END:STANDARD
BEGIN:DAYLIGHT
TZOFFSETFROM:+0100
TZOFFSETTO:+0200
TZNAME:CEST
DTSTART:20270328T010000
END:DAYLIGHT
BEGIN:STANDARD
TZOFFSETFROM:+0200
TZOFFSETTO:+0100
TZNAME:CET
DTSTART:20271031T010000
END:STANDARD
END:VTIMEZONE
BEGIN:VEVENT
DTSTART;TZID=Europe/Brussels:20260514T100000
DTEND;TZID=Europe/Brussels:20260514T180000
DTSTAMP:20260423T010816
CREATED:20250313T143919Z
LAST-MODIFIED:20250701T123105Z
UID:10004678-1778752800-1778781600@buurtinfoquartier.be
SUMMARY:Espace Public Numérique Brabant
DESCRIPTION:Espace ouvert à tout le monde\, avec des ordinateurs\, internet etquelqu’un pour vous aider. Gratuit et sans rendez-vous. \n\n\n\nVoire l’affiche pour l’horraire des activités. Info : 0471 98 30 96 – EPN Brabant
URL:https://buurtinfoquartier.be/nl/agenda/espace-public-numerique-brabant/2026-05-14/
ATTACH;FMTTYPE=image/jpeg:https://buurtinfoquartier.be/wp-content/uploads/2025/03/EPN-OCR-Brabant_Affiche_JUIN-2025.jpg
END:VEVENT
BEGIN:VEVENT
DTSTART;TZID=Europe/Brussels:20260514T160000
DTEND;TZID=Europe/Brussels:20260514T180000
DTSTAMP:20260423T010816
CREATED:20251028T103452Z
LAST-MODIFIED:20251028T103455Z
UID:10006254-1778774400-1778781600@buurtinfoquartier.be
SUMMARY:Les Pâtes au Beurre
DESCRIPTION:Un lieu de parole et de partage collectif anonyme\, sans rendez-vous pour des parents avec enfants sans limite d’âge. Encadré par des psychologues\, psychomotricienne.
URL:https://buurtinfoquartier.be/nl/agenda/les-pates-au-beurre-3/2026-05-14/
LOCATION:Maison des Parents\, rue Dupont 20\, Schaerbeek\, 1030\, Belgique
CATEGORIES:Activités
ATTACH;FMTTYPE=image/jpeg:https://buurtinfoquartier.be/wp-content/uploads/2025/10/Logo-Les-Pates-au-Beurre.jpg
END:VEVENT
BEGIN:VEVENT
DTSTART;TZID=Europe/Brussels:20260515T100000
DTEND;TZID=Europe/Brussels:20260515T180000
DTSTAMP:20260423T010816
CREATED:20250313T143919Z
LAST-MODIFIED:20250701T123105Z
UID:10004679-1778839200-1778868000@buurtinfoquartier.be
SUMMARY:Espace Public Numérique Brabant
DESCRIPTION:Espace ouvert à tout le monde\, avec des ordinateurs\, internet etquelqu’un pour vous aider. Gratuit et sans rendez-vous. \n\n\n\nVoire l’affiche pour l’horraire des activités. Info : 0471 98 30 96 – EPN Brabant
URL:https://buurtinfoquartier.be/nl/agenda/espace-public-numerique-brabant/2026-05-15/
ATTACH;FMTTYPE=image/jpeg:https://buurtinfoquartier.be/wp-content/uploads/2025/03/EPN-OCR-Brabant_Affiche_JUIN-2025.jpg
END:VEVENT
BEGIN:VEVENT
DTSTART;TZID=Europe/Brussels:20260515T150000
DTEND;TZID=Europe/Brussels:20260515T170000
DTSTAMP:20260423T010816
CREATED:20251028T105634Z
LAST-MODIFIED:20251028T105636Z
UID:10006355-1778857200-1778864400@buurtinfoquartier.be
SUMMARY:Bibliothèque et ludothèque
DESCRIPTION:Venez découvrir 165 jeux pour tous les âges\, de 0 à 99 ans\, ainsi qu’une sélection de livres pour les enfants de 2\,5 à 12 ans\, et quelques ouvrages pour les adolescents. Emprunter des jeux et des livres ou simplement lire et jouer sur place\, c’est à vous de choisir !
URL:https://buurtinfoquartier.be/nl/agenda/bibliotheque-et-ludotheque-2/2026-05-15/
LOCATION:Maison des Parents\, rue Dupont 20\, Schaerbeek\, 1030\, Belgique
CATEGORIES:Activités
ATTACH;FMTTYPE=image/jpeg:https://buurtinfoquartier.be/wp-content/uploads/2025/10/Affiche-ludotheque-maison-des-parents-15.10.2025.jpg
END:VEVENT
BEGIN:VEVENT
DTSTART;TZID=Europe/Brussels:20260516T140000
DTEND;TZID=Europe/Brussels:20260516T160000
DTSTAMP:20260423T010816
CREATED:20250307T130159Z
LAST-MODIFIED:20250313T070609Z
UID:10002561-1778940000-1778947200@buurtinfoquartier.be
SUMMARY:Aterliers Hiphop
DESCRIPTION:Cours de Breakdance\, graffiti\, rap\, beatbox… C’est gratuit. \n\n\n\nTous les samedis et dimanches de 14h à 16h.
URL:https://buurtinfoquartier.be/nl/agenda/aterliers-hiphop/2026-05-16/
LOCATION:TRACK\, Rue du Progrès 76\, Schaerbeek\, 1030\, Belgique
ATTACH;FMTTYPE=image/jpeg:https://buurtinfoquartier.be/wp-content/uploads/2025/03/Visuel-HHS-2025.TRACK-photo.jpg
END:VEVENT
BEGIN:VEVENT
DTSTART;TZID=Europe/Brussels:20260517T140000
DTEND;TZID=Europe/Brussels:20260517T160000
DTSTAMP:20260423T010816
CREATED:20250307T130159Z
LAST-MODIFIED:20250313T070609Z
UID:10002562-1779026400-1779033600@buurtinfoquartier.be
SUMMARY:Aterliers Hiphop
DESCRIPTION:Cours de Breakdance\, graffiti\, rap\, beatbox… C’est gratuit. \n\n\n\nTous les samedis et dimanches de 14h à 16h.
URL:https://buurtinfoquartier.be/nl/agenda/aterliers-hiphop/2026-05-17/
LOCATION:TRACK\, Rue du Progrès 76\, Schaerbeek\, 1030\, Belgique
ATTACH;FMTTYPE=image/jpeg:https://buurtinfoquartier.be/wp-content/uploads/2025/03/Visuel-HHS-2025.TRACK-photo.jpg
END:VEVENT
BEGIN:VEVENT
DTSTART;TZID=Europe/Brussels:20260518T090000
DTEND;TZID=Europe/Brussels:20260518T110000
DTSTAMP:20260423T010816
CREATED:20240925T141512Z
LAST-MODIFIED:20250313T070728Z
UID:10000646-1779094800-1779102000@buurtinfoquartier.be
SUMMARY:Café Papote des parents
DESCRIPTION:Pour prendre du temps pour soi et échanger avec d’autres parents. \n\n\n\nContact: Sonia de Clerck \n\n\n\n 
URL:https://buurtinfoquartier.be/nl/agenda/cafe-papote/2026-05-18/
LOCATION:Maison des Parents\, rue Dupont 20\, Schaerbeek\, 1030\, Belgique
CATEGORIES:Activités
ATTACH;FMTTYPE=image/png:https://buurtinfoquartier.be/wp-content/uploads/2024/09/Pictos-GTa-info-11.png
END:VEVENT
BEGIN:VEVENT
DTSTART;TZID=Europe/Brussels:20260518T090000
DTEND;TZID=Europe/Brussels:20260518T170000
DTSTAMP:20260423T010816
CREATED:20251017T091603Z
LAST-MODIFIED:20251017T091609Z
UID:10005815-1779094800-1779123600@buurtinfoquartier.be
SUMMARY:Ciné-Impact : s’exprimer\, créer\, se projeter
DESCRIPTION:Parcours de création audiovisuelle participative ouvert à toutes et tous (jeunes\, adultes\, femmes) sans prérequis techniques. Pendant six mois\, les participant.e.s seront accompagné.e.s dans toutes les étapes de réalisation d’un court-métrage : écriture\, tournage\, montage et diffusion. Le film\, ancré dans la réalité du quartier Brabant Nord à Schaerbeek\, sera projeté publiquement à l’automne 2026. \n\n\n\nContact / Informations : ceicrpasbl@gmail.com – +32 472 04 05 01 \n\n\n\nObjectif : Favoriser l’expression personnelle et collective\, renforcer le lien social et valoriser les habitant·e·s du quartier. \n\n\n\nPériode : septembre 2025 – avril 2026 \n\n\n\nLieu : Espace 58\, rue Dupont 58\, Schaerbeek \n\n\n\nOrganisé par : L’équipe 58 et Mobile – Travailleurs sociaux de rue\, en collaboration avec l’ASBL Studio 124
URL:https://buurtinfoquartier.be/nl/agenda/cine-impact-sexprimer-creer-se-projeter/2026-05-18/
ATTACH;FMTTYPE=image/jpeg:https://buurtinfoquartier.be/wp-content/uploads/2025/03/Facade-TSR-58.jpg
END:VEVENT
BEGIN:VEVENT
DTSTART;TZID=Europe/Brussels:20260518T100000
DTEND;TZID=Europe/Brussels:20260518T180000
DTSTAMP:20260423T010816
CREATED:20250313T143919Z
LAST-MODIFIED:20250701T123105Z
UID:10004680-1779098400-1779127200@buurtinfoquartier.be
SUMMARY:Espace Public Numérique Brabant
DESCRIPTION:Espace ouvert à tout le monde\, avec des ordinateurs\, internet etquelqu’un pour vous aider. Gratuit et sans rendez-vous. \n\n\n\nVoire l’affiche pour l’horraire des activités. Info : 0471 98 30 96 – EPN Brabant
URL:https://buurtinfoquartier.be/nl/agenda/espace-public-numerique-brabant/2026-05-18/
ATTACH;FMTTYPE=image/jpeg:https://buurtinfoquartier.be/wp-content/uploads/2025/03/EPN-OCR-Brabant_Affiche_JUIN-2025.jpg
END:VEVENT
BEGIN:VEVENT
DTSTART;TZID=Europe/Brussels:20260518T140000
DTEND;TZID=Europe/Brussels:20260518T160000
DTSTAMP:20260423T010816
CREATED:20251028T103056Z
LAST-MODIFIED:20251028T103100Z
UID:10005945-1779112800-1779120000@buurtinfoquartier.be
SUMMARY:Groupe Bag
DESCRIPTION:Atelier psychocorporel\, contes et art-thérapie pour femmes.
URL:https://buurtinfoquartier.be/nl/agenda/groupe-bag/2026-05-18/
LOCATION:Maison des Parents\, rue Dupont 20\, Schaerbeek\, 1030\, Belgique
CATEGORIES:Activités
ATTACH;FMTTYPE=image/jpeg:https://buurtinfoquartier.be/wp-content/uploads/2024/08/Logo-Atouts-Parents.jpg
END:VEVENT
BEGIN:VEVENT
DTSTART;TZID=Europe/Brussels:20260519T093000
DTEND;TZID=Europe/Brussels:20260519T120000
DTSTAMP:20260423T010816
CREATED:20250313T071118Z
LAST-MODIFIED:20250313T071120Z
UID:10000907-1779183000-1779192000@buurtinfoquartier.be
SUMMARY:Comité des femmes
DESCRIPTION:Echanges et rencontres entre femmes autour d’une activité ou un café. \n\n\n\nSur inscription – gratuit \n\n\n\nContact: Maud Verjus ou Nathalie Thomas au 02 218 56 08
URL:https://buurtinfoquartier.be/nl/agenda/comite-des-femmes-2/2026-05-19/
LOCATION:Maison des Parents\, rue Dupont 20\, Schaerbeek\, 1030\, Belgique
CATEGORIES:Activités
ATTACH;FMTTYPE=image/jpeg:https://buurtinfoquartier.be/wp-content/uploads/2024/09/Pictos-GTa-info-e1727970140216.jpg
END:VEVENT
BEGIN:VEVENT
DTSTART;TZID=Europe/Brussels:20260519T100000
DTEND;TZID=Europe/Brussels:20260519T180000
DTSTAMP:20260423T010816
CREATED:20250313T143919Z
LAST-MODIFIED:20250701T123105Z
UID:10004681-1779184800-1779213600@buurtinfoquartier.be
SUMMARY:Espace Public Numérique Brabant
DESCRIPTION:Espace ouvert à tout le monde\, avec des ordinateurs\, internet etquelqu’un pour vous aider. Gratuit et sans rendez-vous. \n\n\n\nVoire l’affiche pour l’horraire des activités. Info : 0471 98 30 96 – EPN Brabant
URL:https://buurtinfoquartier.be/nl/agenda/espace-public-numerique-brabant/2026-05-19/
ATTACH;FMTTYPE=image/jpeg:https://buurtinfoquartier.be/wp-content/uploads/2025/03/EPN-OCR-Brabant_Affiche_JUIN-2025.jpg
END:VEVENT
BEGIN:VEVENT
DTSTART;TZID=Europe/Brussels:20260519T133000
DTEND;TZID=Europe/Brussels:20260519T173000
DTSTAMP:20260423T010816
CREATED:20240925T142937Z
LAST-MODIFIED:20250313T071609Z
UID:10001428-1779197400-1779211800@buurtinfoquartier.be
SUMMARY:Pshychomotricité parents-enfants
DESCRIPTION:Sur inscription – gratuit \n\n\n\nContact: Astrid Galliot au 0484 81 55 85
URL:https://buurtinfoquartier.be/nl/agenda/pshychomotricite-parents-enfants/2026-05-19/
LOCATION:Maison des Parents\, rue Dupont 20\, Schaerbeek\, 1030\, Belgique
CATEGORIES:Activités
ATTACH;FMTTYPE=image/png:https://buurtinfoquartier.be/wp-content/uploads/2024/09/Pictos-GTa-info-13-e1727970744909.png
END:VEVENT
BEGIN:VEVENT
DTSTART;TZID=Europe/Brussels:20260520T093000
DTEND;TZID=Europe/Brussels:20260520T113000
DTSTAMP:20260423T010816
CREATED:20251028T103210Z
LAST-MODIFIED:20251028T103213Z
UID:10006206-1779269400-1779276600@buurtinfoquartier.be
SUMMARY:Les Pâtes au Beurre
DESCRIPTION:Un lieu de parole et de partage collectif anonyme\, sans rendez-vous pour des parents avec enfants sans limite d’âge. Encadré par des psychologues\, psychomotricienne.
URL:https://buurtinfoquartier.be/nl/agenda/les-pates-au-beurre-2/2026-05-20/
LOCATION:Maison des Parents\, rue Dupont 20\, Schaerbeek\, 1030\, Belgique
CATEGORIES:Activités
ATTACH;FMTTYPE=image/jpeg:https://buurtinfoquartier.be/wp-content/uploads/2025/10/Logo-Les-Pates-au-Beurre.jpg
END:VEVENT
BEGIN:VEVENT
DTSTART;TZID=Europe/Brussels:20260520T100000
DTEND;TZID=Europe/Brussels:20260520T180000
DTSTAMP:20260423T010816
CREATED:20250313T143919Z
LAST-MODIFIED:20250701T123105Z
UID:10004682-1779271200-1779300000@buurtinfoquartier.be
SUMMARY:Espace Public Numérique Brabant
DESCRIPTION:Espace ouvert à tout le monde\, avec des ordinateurs\, internet etquelqu’un pour vous aider. Gratuit et sans rendez-vous. \n\n\n\nVoire l’affiche pour l’horraire des activités. Info : 0471 98 30 96 – EPN Brabant
URL:https://buurtinfoquartier.be/nl/agenda/espace-public-numerique-brabant/2026-05-20/
ATTACH;FMTTYPE=image/jpeg:https://buurtinfoquartier.be/wp-content/uploads/2025/03/EPN-OCR-Brabant_Affiche_JUIN-2025.jpg
END:VEVENT
BEGIN:VEVENT
DTSTART;TZID=Europe/Brussels:20260520T130000
DTEND;TZID=Europe/Brussels:20260520T170000
DTSTAMP:20260423T010816
CREATED:20250109T125127Z
LAST-MODIFIED:20251110T083746Z
UID:10002234-1779282000-1779296400@buurtinfoquartier.be
SUMMARY:Activités enfants 6-12 ans
DESCRIPTION:Activité accueil temps libre pour les enfants de 6 à 12 ans. Inscription obligatoire. \n\n\n\nOrganisé par l’ASBL Avenir
URL:https://buurtinfoquartier.be/nl/agenda/activite-enfant-6-12-ans/2026-05-20/
LOCATION:Rue du Moulin\, 150\, 1210 Saint-Josse-ten-Noode\, Rue du Moulin\, 150\, Saint-Josse-ten-Noode\, 1210\, Belgique
CATEGORIES:Activités
ATTACH;FMTTYPE=image/jpeg:https://buurtinfoquartier.be/wp-content/uploads/2025/01/masque1.jpg
END:VEVENT
BEGIN:VEVENT
DTSTART;TZID=Europe/Brussels:20260520T153000
DTEND;TZID=Europe/Brussels:20260520T170000
DTSTAMP:20260423T010816
CREATED:20251028T105351Z
LAST-MODIFIED:20251028T105355Z
UID:10006307-1779291000-1779296400@buurtinfoquartier.be
SUMMARY:Bibliothèque et ludothèque
DESCRIPTION:Venez découvrir 165 jeux pour tous les âges\, de 0 à 99 ans\, ainsi qu’une sélection de livres pour les enfants de 2\,5 à 12 ans\, et quelques ouvrages pour les adolescents. Emprunter des jeux et des livres ou simplement lire et jouer sur place\, c’est à vous de choisir !
URL:https://buurtinfoquartier.be/nl/agenda/bibliotheque-et-ludotheque/2026-05-20/
LOCATION:Maison des Parents\, rue Dupont 20\, Schaerbeek\, 1030\, Belgique
CATEGORIES:Activités
ATTACH;FMTTYPE=image/jpeg:https://buurtinfoquartier.be/wp-content/uploads/2025/10/Affiche-ludotheque-maison-des-parents-15.10.2025.jpg
END:VEVENT
BEGIN:VEVENT
DTSTART;TZID=Europe/Brussels:20260521T100000
DTEND;TZID=Europe/Brussels:20260521T180000
DTSTAMP:20260423T010816
CREATED:20250313T143919Z
LAST-MODIFIED:20250701T123105Z
UID:10004683-1779357600-1779386400@buurtinfoquartier.be
SUMMARY:Espace Public Numérique Brabant
DESCRIPTION:Espace ouvert à tout le monde\, avec des ordinateurs\, internet etquelqu’un pour vous aider. Gratuit et sans rendez-vous. \n\n\n\nVoire l’affiche pour l’horraire des activités. Info : 0471 98 30 96 – EPN Brabant
URL:https://buurtinfoquartier.be/nl/agenda/espace-public-numerique-brabant/2026-05-21/
ATTACH;FMTTYPE=image/jpeg:https://buurtinfoquartier.be/wp-content/uploads/2025/03/EPN-OCR-Brabant_Affiche_JUIN-2025.jpg
END:VEVENT
BEGIN:VEVENT
DTSTART;TZID=Europe/Brussels:20260521T160000
DTEND;TZID=Europe/Brussels:20260521T180000
DTSTAMP:20260423T010816
CREATED:20251028T103452Z
LAST-MODIFIED:20251028T103455Z
UID:10006255-1779379200-1779386400@buurtinfoquartier.be
SUMMARY:Les Pâtes au Beurre
DESCRIPTION:Un lieu de parole et de partage collectif anonyme\, sans rendez-vous pour des parents avec enfants sans limite d’âge. Encadré par des psychologues\, psychomotricienne.
URL:https://buurtinfoquartier.be/nl/agenda/les-pates-au-beurre-3/2026-05-21/
LOCATION:Maison des Parents\, rue Dupont 20\, Schaerbeek\, 1030\, Belgique
CATEGORIES:Activités
ATTACH;FMTTYPE=image/jpeg:https://buurtinfoquartier.be/wp-content/uploads/2025/10/Logo-Les-Pates-au-Beurre.jpg
END:VEVENT
BEGIN:VEVENT
DTSTART;TZID=Europe/Brussels:20260522T100000
DTEND;TZID=Europe/Brussels:20260522T180000
DTSTAMP:20260423T010816
CREATED:20250313T143919Z
LAST-MODIFIED:20250701T123105Z
UID:10004684-1779444000-1779472800@buurtinfoquartier.be
SUMMARY:Espace Public Numérique Brabant
DESCRIPTION:Espace ouvert à tout le monde\, avec des ordinateurs\, internet etquelqu’un pour vous aider. Gratuit et sans rendez-vous. \n\n\n\nVoire l’affiche pour l’horraire des activités. Info : 0471 98 30 96 – EPN Brabant
URL:https://buurtinfoquartier.be/nl/agenda/espace-public-numerique-brabant/2026-05-22/
ATTACH;FMTTYPE=image/jpeg:https://buurtinfoquartier.be/wp-content/uploads/2025/03/EPN-OCR-Brabant_Affiche_JUIN-2025.jpg
END:VEVENT
BEGIN:VEVENT
DTSTART;TZID=Europe/Brussels:20260522T150000
DTEND;TZID=Europe/Brussels:20260522T170000
DTSTAMP:20260423T010816
CREATED:20251028T105634Z
LAST-MODIFIED:20251028T105636Z
UID:10006356-1779462000-1779469200@buurtinfoquartier.be
SUMMARY:Bibliothèque et ludothèque
DESCRIPTION:Venez découvrir 165 jeux pour tous les âges\, de 0 à 99 ans\, ainsi qu’une sélection de livres pour les enfants de 2\,5 à 12 ans\, et quelques ouvrages pour les adolescents. Emprunter des jeux et des livres ou simplement lire et jouer sur place\, c’est à vous de choisir !
URL:https://buurtinfoquartier.be/nl/agenda/bibliotheque-et-ludotheque-2/2026-05-22/
LOCATION:Maison des Parents\, rue Dupont 20\, Schaerbeek\, 1030\, Belgique
CATEGORIES:Activités
ATTACH;FMTTYPE=image/jpeg:https://buurtinfoquartier.be/wp-content/uploads/2025/10/Affiche-ludotheque-maison-des-parents-15.10.2025.jpg
END:VEVENT
BEGIN:VEVENT
DTSTART;TZID=Europe/Brussels:20260523T140000
DTEND;TZID=Europe/Brussels:20260523T160000
DTSTAMP:20260423T010816
CREATED:20250307T130159Z
LAST-MODIFIED:20250313T070609Z
UID:10002563-1779544800-1779552000@buurtinfoquartier.be
SUMMARY:Aterliers Hiphop
DESCRIPTION:Cours de Breakdance\, graffiti\, rap\, beatbox… C’est gratuit. \n\n\n\nTous les samedis et dimanches de 14h à 16h.
URL:https://buurtinfoquartier.be/nl/agenda/aterliers-hiphop/2026-05-23/
LOCATION:TRACK\, Rue du Progrès 76\, Schaerbeek\, 1030\, Belgique
ATTACH;FMTTYPE=image/jpeg:https://buurtinfoquartier.be/wp-content/uploads/2025/03/Visuel-HHS-2025.TRACK-photo.jpg
END:VEVENT
BEGIN:VEVENT
DTSTART;TZID=Europe/Brussels:20260524T140000
DTEND;TZID=Europe/Brussels:20260524T160000
DTSTAMP:20260423T010816
CREATED:20250307T130159Z
LAST-MODIFIED:20250313T070609Z
UID:10002564-1779631200-1779638400@buurtinfoquartier.be
SUMMARY:Aterliers Hiphop
DESCRIPTION:Cours de Breakdance\, graffiti\, rap\, beatbox… C’est gratuit. \n\n\n\nTous les samedis et dimanches de 14h à 16h.
URL:https://buurtinfoquartier.be/nl/agenda/aterliers-hiphop/2026-05-24/
LOCATION:TRACK\, Rue du Progrès 76\, Schaerbeek\, 1030\, Belgique
ATTACH;FMTTYPE=image/jpeg:https://buurtinfoquartier.be/wp-content/uploads/2025/03/Visuel-HHS-2025.TRACK-photo.jpg
END:VEVENT
BEGIN:VEVENT
DTSTART;TZID=Europe/Brussels:20260525T090000
DTEND;TZID=Europe/Brussels:20260525T110000
DTSTAMP:20260423T010816
CREATED:20240925T141512Z
LAST-MODIFIED:20250313T070728Z
UID:10000647-1779699600-1779706800@buurtinfoquartier.be
SUMMARY:Café Papote des parents
DESCRIPTION:Pour prendre du temps pour soi et échanger avec d’autres parents. \n\n\n\nContact: Sonia de Clerck \n\n\n\n 
URL:https://buurtinfoquartier.be/nl/agenda/cafe-papote/2026-05-25/
LOCATION:Maison des Parents\, rue Dupont 20\, Schaerbeek\, 1030\, Belgique
CATEGORIES:Activités
ATTACH;FMTTYPE=image/png:https://buurtinfoquartier.be/wp-content/uploads/2024/09/Pictos-GTa-info-11.png
END:VEVENT
BEGIN:VEVENT
DTSTART;TZID=Europe/Brussels:20260525T100000
DTEND;TZID=Europe/Brussels:20260525T180000
DTSTAMP:20260423T010816
CREATED:20250313T143919Z
LAST-MODIFIED:20250701T123105Z
UID:10004685-1779703200-1779732000@buurtinfoquartier.be
SUMMARY:Espace Public Numérique Brabant
DESCRIPTION:Espace ouvert à tout le monde\, avec des ordinateurs\, internet etquelqu’un pour vous aider. Gratuit et sans rendez-vous. \n\n\n\nVoire l’affiche pour l’horraire des activités. Info : 0471 98 30 96 – EPN Brabant
URL:https://buurtinfoquartier.be/nl/agenda/espace-public-numerique-brabant/2026-05-25/
ATTACH;FMTTYPE=image/jpeg:https://buurtinfoquartier.be/wp-content/uploads/2025/03/EPN-OCR-Brabant_Affiche_JUIN-2025.jpg
END:VEVENT
BEGIN:VEVENT
DTSTART;TZID=Europe/Brussels:20260525T140000
DTEND;TZID=Europe/Brussels:20260525T160000
DTSTAMP:20260423T010816
CREATED:20251028T103056Z
LAST-MODIFIED:20251028T103100Z
UID:10005946-1779717600-1779724800@buurtinfoquartier.be
SUMMARY:Groupe Bag
DESCRIPTION:Atelier psychocorporel\, contes et art-thérapie pour femmes.
URL:https://buurtinfoquartier.be/nl/agenda/groupe-bag/2026-05-25/
LOCATION:Maison des Parents\, rue Dupont 20\, Schaerbeek\, 1030\, Belgique
CATEGORIES:Activités
ATTACH;FMTTYPE=image/jpeg:https://buurtinfoquartier.be/wp-content/uploads/2024/08/Logo-Atouts-Parents.jpg
END:VEVENT
BEGIN:VEVENT
DTSTART;TZID=Europe/Brussels:20260526T093000
DTEND;TZID=Europe/Brussels:20260526T120000
DTSTAMP:20260423T010816
CREATED:20250313T071118Z
LAST-MODIFIED:20250313T071120Z
UID:10000908-1779787800-1779796800@buurtinfoquartier.be
SUMMARY:Comité des femmes
DESCRIPTION:Echanges et rencontres entre femmes autour d’une activité ou un café. \n\n\n\nSur inscription – gratuit \n\n\n\nContact: Maud Verjus ou Nathalie Thomas au 02 218 56 08
URL:https://buurtinfoquartier.be/nl/agenda/comite-des-femmes-2/2026-05-26/
LOCATION:Maison des Parents\, rue Dupont 20\, Schaerbeek\, 1030\, Belgique
CATEGORIES:Activités
ATTACH;FMTTYPE=image/jpeg:https://buurtinfoquartier.be/wp-content/uploads/2024/09/Pictos-GTa-info-e1727970140216.jpg
END:VEVENT
BEGIN:VEVENT
DTSTART;TZID=Europe/Brussels:20260526T100000
DTEND;TZID=Europe/Brussels:20260526T180000
DTSTAMP:20260423T010816
CREATED:20250313T143919Z
LAST-MODIFIED:20250701T123105Z
UID:10004686-1779789600-1779818400@buurtinfoquartier.be
SUMMARY:Espace Public Numérique Brabant
DESCRIPTION:Espace ouvert à tout le monde\, avec des ordinateurs\, internet etquelqu’un pour vous aider. Gratuit et sans rendez-vous. \n\n\n\nVoire l’affiche pour l’horraire des activités. Info : 0471 98 30 96 – EPN Brabant
URL:https://buurtinfoquartier.be/nl/agenda/espace-public-numerique-brabant/2026-05-26/
ATTACH;FMTTYPE=image/jpeg:https://buurtinfoquartier.be/wp-content/uploads/2025/03/EPN-OCR-Brabant_Affiche_JUIN-2025.jpg
END:VEVENT
BEGIN:VEVENT
DTSTART;TZID=Europe/Brussels:20260526T133000
DTEND;TZID=Europe/Brussels:20260526T173000
DTSTAMP:20260423T010816
CREATED:20240925T142937Z
LAST-MODIFIED:20250313T071609Z
UID:10001429-1779802200-1779816600@buurtinfoquartier.be
SUMMARY:Pshychomotricité parents-enfants
DESCRIPTION:Sur inscription – gratuit \n\n\n\nContact: Astrid Galliot au 0484 81 55 85
URL:https://buurtinfoquartier.be/nl/agenda/pshychomotricite-parents-enfants/2026-05-26/
LOCATION:Maison des Parents\, rue Dupont 20\, Schaerbeek\, 1030\, Belgique
CATEGORIES:Activités
ATTACH;FMTTYPE=image/png:https://buurtinfoquartier.be/wp-content/uploads/2024/09/Pictos-GTa-info-13-e1727970744909.png
END:VEVENT
BEGIN:VEVENT
DTSTART;TZID=Europe/Brussels:20260527T093000
DTEND;TZID=Europe/Brussels:20260527T113000
DTSTAMP:20260423T010816
CREATED:20251028T103210Z
LAST-MODIFIED:20251028T103213Z
UID:10006207-1779874200-1779881400@buurtinfoquartier.be
SUMMARY:Les Pâtes au Beurre
DESCRIPTION:Un lieu de parole et de partage collectif anonyme\, sans rendez-vous pour des parents avec enfants sans limite d’âge. Encadré par des psychologues\, psychomotricienne.
URL:https://buurtinfoquartier.be/nl/agenda/les-pates-au-beurre-2/2026-05-27/
LOCATION:Maison des Parents\, rue Dupont 20\, Schaerbeek\, 1030\, Belgique
CATEGORIES:Activités
ATTACH;FMTTYPE=image/jpeg:https://buurtinfoquartier.be/wp-content/uploads/2025/10/Logo-Les-Pates-au-Beurre.jpg
END:VEVENT
END:VCALENDAR