BEGIN:VCALENDAR
VERSION:2.0
PRODID:-//Quartier Brabant Buurt - ECPv6.15.20//NONSGML v1.0//EN
CALSCALE:GREGORIAN
METHOD:PUBLISH
X-WR-CALNAME:Quartier Brabant Buurt
X-ORIGINAL-URL:https://buurtinfoquartier.be/nl/
X-WR-CALDESC:Evenementen voor Quartier Brabant Buurt
REFRESH-INTERVAL;VALUE=DURATION:PT1H
X-Robots-Tag:noindex
X-PUBLISHED-TTL:PT1H
BEGIN:VTIMEZONE
TZID:Europe/Brussels
BEGIN:DAYLIGHT
TZOFFSETFROM:+0100
TZOFFSETTO:+0200
TZNAME:CEST
DTSTART:20240331T010000
END:DAYLIGHT
BEGIN:STANDARD
TZOFFSETFROM:+0200
TZOFFSETTO:+0100
TZNAME:CET
DTSTART:20241027T010000
END:STANDARD
BEGIN:DAYLIGHT
TZOFFSETFROM:+0100
TZOFFSETTO:+0200
TZNAME:CEST
DTSTART:20250330T010000
END:DAYLIGHT
BEGIN:STANDARD
TZOFFSETFROM:+0200
TZOFFSETTO:+0100
TZNAME:CET
DTSTART:20251026T010000
END:STANDARD
BEGIN:DAYLIGHT
TZOFFSETFROM:+0100
TZOFFSETTO:+0200
TZNAME:CEST
DTSTART:20260329T010000
END:DAYLIGHT
BEGIN:STANDARD
TZOFFSETFROM:+0200
TZOFFSETTO:+0100
TZNAME:CET
DTSTART:20261025T010000
END:STANDARD
END:VTIMEZONE
BEGIN:VEVENT
DTSTART;TZID=Europe/Brussels:20251118T100000
DTEND;TZID=Europe/Brussels:20251118T180000
DTSTAMP:20260425T123013
CREATED:20250313T143919Z
LAST-MODIFIED:20250701T123105Z
UID:10004551-1763460000-1763488800@buurtinfoquartier.be
SUMMARY:Espace Public Numérique Brabant
DESCRIPTION:Espace ouvert à tout le monde\, avec des ordinateurs\, internet etquelqu’un pour vous aider. Gratuit et sans rendez-vous. \n\n\n\nVoire l’affiche pour l’horraire des activités. Info : 0471 98 30 96 – EPN Brabant
URL:https://buurtinfoquartier.be/nl/agenda/espace-public-numerique-brabant/2025-11-18/
ATTACH;FMTTYPE=image/jpeg:https://buurtinfoquartier.be/wp-content/uploads/2025/03/EPN-OCR-Brabant_Affiche_JUIN-2025.jpg
END:VEVENT
BEGIN:VEVENT
DTSTART;TZID=Europe/Brussels:20251118T093000
DTEND;TZID=Europe/Brussels:20251118T120000
DTSTAMP:20260425T123013
CREATED:20250313T071118Z
LAST-MODIFIED:20250313T071120Z
UID:10000881-1763458200-1763467200@buurtinfoquartier.be
SUMMARY:Comité des femmes
DESCRIPTION:Echanges et rencontres entre femmes autour d’une activité ou un café. \n\n\n\nSur inscription – gratuit \n\n\n\nContact: Maud Verjus ou Nathalie Thomas au 02 218 56 08
URL:https://buurtinfoquartier.be/nl/agenda/comite-des-femmes-2/2025-11-18/
LOCATION:Maison des Parents\, rue Dupont 20\, Schaerbeek\, 1030\, Belgique
CATEGORIES:Activités
ATTACH;FMTTYPE=image/jpeg:https://buurtinfoquartier.be/wp-content/uploads/2024/09/Pictos-GTa-info-e1727970140216.jpg
END:VEVENT
BEGIN:VEVENT
DTSTART;TZID=Europe/Brussels:20251117T140000
DTEND;TZID=Europe/Brussels:20251117T160000
DTSTAMP:20260425T123014
CREATED:20251028T103056Z
LAST-MODIFIED:20251028T103100Z
UID:10005919-1763388000-1763395200@buurtinfoquartier.be
SUMMARY:Groupe Bag
DESCRIPTION:Atelier psychocorporel\, contes et art-thérapie pour femmes.
URL:https://buurtinfoquartier.be/nl/agenda/groupe-bag/2025-11-17/
LOCATION:Maison des Parents\, rue Dupont 20\, Schaerbeek\, 1030\, Belgique
CATEGORIES:Activités
ATTACH;FMTTYPE=image/jpeg:https://buurtinfoquartier.be/wp-content/uploads/2024/08/Logo-Atouts-Parents.jpg
END:VEVENT
BEGIN:VEVENT
DTSTART;TZID=Europe/Brussels:20251117T100000
DTEND;TZID=Europe/Brussels:20251117T180000
DTSTAMP:20260425T123014
CREATED:20250313T143919Z
LAST-MODIFIED:20250701T123105Z
UID:10004550-1763373600-1763402400@buurtinfoquartier.be
SUMMARY:Espace Public Numérique Brabant
DESCRIPTION:Espace ouvert à tout le monde\, avec des ordinateurs\, internet etquelqu’un pour vous aider. Gratuit et sans rendez-vous. \n\n\n\nVoire l’affiche pour l’horraire des activités. Info : 0471 98 30 96 – EPN Brabant
URL:https://buurtinfoquartier.be/nl/agenda/espace-public-numerique-brabant/2025-11-17/
ATTACH;FMTTYPE=image/jpeg:https://buurtinfoquartier.be/wp-content/uploads/2025/03/EPN-OCR-Brabant_Affiche_JUIN-2025.jpg
END:VEVENT
BEGIN:VEVENT
DTSTART;TZID=Europe/Brussels:20251117T090000
DTEND;TZID=Europe/Brussels:20251117T170000
DTSTAMP:20260425T123014
CREATED:20251017T091603Z
LAST-MODIFIED:20251017T091609Z
UID:10005809-1763370000-1763398800@buurtinfoquartier.be
SUMMARY:Ciné-Impact : s’exprimer\, créer\, se projeter
DESCRIPTION:Parcours de création audiovisuelle participative ouvert à toutes et tous (jeunes\, adultes\, femmes) sans prérequis techniques. Pendant six mois\, les participant.e.s seront accompagné.e.s dans toutes les étapes de réalisation d’un court-métrage : écriture\, tournage\, montage et diffusion. Le film\, ancré dans la réalité du quartier Brabant Nord à Schaerbeek\, sera projeté publiquement à l’automne 2026. \n\n\n\nContact / Informations : ceicrpasbl@gmail.com – +32 472 04 05 01 \n\n\n\nObjectif : Favoriser l’expression personnelle et collective\, renforcer le lien social et valoriser les habitant·e·s du quartier. \n\n\n\nPériode : septembre 2025 – avril 2026 \n\n\n\nLieu : Espace 58\, rue Dupont 58\, Schaerbeek \n\n\n\nOrganisé par : L’équipe 58 et Mobile – Travailleurs sociaux de rue\, en collaboration avec l’ASBL Studio 124
URL:https://buurtinfoquartier.be/nl/agenda/cine-impact-sexprimer-creer-se-projeter/2025-11-17/
ATTACH;FMTTYPE=image/jpeg:https://buurtinfoquartier.be/wp-content/uploads/2025/03/Facade-TSR-58.jpg
END:VEVENT
BEGIN:VEVENT
DTSTART;TZID=Europe/Brussels:20251117T090000
DTEND;TZID=Europe/Brussels:20251117T110000
DTSTAMP:20260425T123014
CREATED:20240925T141512Z
LAST-MODIFIED:20250313T070728Z
UID:10000620-1763370000-1763377200@buurtinfoquartier.be
SUMMARY:Café Papote des parents
DESCRIPTION:Pour prendre du temps pour soi et échanger avec d’autres parents. \n\n\n\nContact: Sonia de Clerck \n\n\n\n 
URL:https://buurtinfoquartier.be/nl/agenda/cafe-papote/2025-11-17/
LOCATION:Maison des Parents\, rue Dupont 20\, Schaerbeek\, 1030\, Belgique
CATEGORIES:Activités
ATTACH;FMTTYPE=image/png:https://buurtinfoquartier.be/wp-content/uploads/2024/09/Pictos-GTa-info-11.png
END:VEVENT
BEGIN:VEVENT
DTSTART;TZID=Europe/Brussels:20251116T140000
DTEND;TZID=Europe/Brussels:20251116T160000
DTSTAMP:20260425T123014
CREATED:20250307T130159Z
LAST-MODIFIED:20250313T070609Z
UID:10002510-1763301600-1763308800@buurtinfoquartier.be
SUMMARY:Aterliers Hiphop
DESCRIPTION:Cours de Breakdance\, graffiti\, rap\, beatbox… C’est gratuit. \n\n\n\nTous les samedis et dimanches de 14h à 16h.
URL:https://buurtinfoquartier.be/nl/agenda/aterliers-hiphop/2025-11-16/
LOCATION:TRACK\, Rue du Progrès 76\, Schaerbeek\, 1030\, Belgique
ATTACH;FMTTYPE=image/jpeg:https://buurtinfoquartier.be/wp-content/uploads/2025/03/Visuel-HHS-2025.TRACK-photo.jpg
END:VEVENT
BEGIN:VEVENT
DTSTART;TZID=Europe/Brussels:20251115T140000
DTEND;TZID=Europe/Brussels:20251115T160000
DTSTAMP:20260425T123014
CREATED:20250307T130159Z
LAST-MODIFIED:20250313T070609Z
UID:10002509-1763215200-1763222400@buurtinfoquartier.be
SUMMARY:Aterliers Hiphop
DESCRIPTION:Cours de Breakdance\, graffiti\, rap\, beatbox… C’est gratuit. \n\n\n\nTous les samedis et dimanches de 14h à 16h.
URL:https://buurtinfoquartier.be/nl/agenda/aterliers-hiphop/2025-11-15/
LOCATION:TRACK\, Rue du Progrès 76\, Schaerbeek\, 1030\, Belgique
ATTACH;FMTTYPE=image/jpeg:https://buurtinfoquartier.be/wp-content/uploads/2025/03/Visuel-HHS-2025.TRACK-photo.jpg
END:VEVENT
BEGIN:VEVENT
DTSTART;TZID=Europe/Brussels:20251115T133000
DTEND;TZID=Europe/Brussels:20251115T170000
DTSTAMP:20260425T123014
CREATED:20251110T090351Z
LAST-MODIFIED:20251110T090355Z
UID:10006410-1763213400-1763226000@buurtinfoquartier.be
SUMMARY:"Le cinéma à Saint-Josse" Visite Guidé
DESCRIPTION:Programme visite guidée : \n\n\n\n13h30 : rendez-vous au local PCS\,rue Musin n°3\, \n\n\n\n14h00 : début de la visite guidée avec Isabel Biver\, \n\n\n\n15h30 : fin de la visite guidée.
URL:https://buurtinfoquartier.be/nl/agenda/le-cinema-a-saint-josse-visite-guide/
END:VEVENT
BEGIN:VEVENT
DTSTART;TZID=Europe/Brussels:20251114T150000
DTEND;TZID=Europe/Brussels:20251114T170000
DTSTAMP:20260425T123014
CREATED:20251028T105634Z
LAST-MODIFIED:20251028T105636Z
UID:10006329-1763132400-1763139600@buurtinfoquartier.be
SUMMARY:Bibliothèque et ludothèque
DESCRIPTION:Venez découvrir 165 jeux pour tous les âges\, de 0 à 99 ans\, ainsi qu’une sélection de livres pour les enfants de 2\,5 à 12 ans\, et quelques ouvrages pour les adolescents. Emprunter des jeux et des livres ou simplement lire et jouer sur place\, c’est à vous de choisir !
URL:https://buurtinfoquartier.be/nl/agenda/bibliotheque-et-ludotheque-2/2025-11-14/
LOCATION:Maison des Parents\, rue Dupont 20\, Schaerbeek\, 1030\, Belgique
CATEGORIES:Activités
ATTACH;FMTTYPE=image/jpeg:https://buurtinfoquartier.be/wp-content/uploads/2025/10/Affiche-ludotheque-maison-des-parents-15.10.2025.jpg
END:VEVENT
BEGIN:VEVENT
DTSTART;TZID=Europe/Brussels:20251114T100000
DTEND;TZID=Europe/Brussels:20251114T180000
DTSTAMP:20260425T123014
CREATED:20250313T143919Z
LAST-MODIFIED:20250701T123105Z
UID:10004549-1763114400-1763143200@buurtinfoquartier.be
SUMMARY:Espace Public Numérique Brabant
DESCRIPTION:Espace ouvert à tout le monde\, avec des ordinateurs\, internet etquelqu’un pour vous aider. Gratuit et sans rendez-vous. \n\n\n\nVoire l’affiche pour l’horraire des activités. Info : 0471 98 30 96 – EPN Brabant
URL:https://buurtinfoquartier.be/nl/agenda/espace-public-numerique-brabant/2025-11-14/
ATTACH;FMTTYPE=image/jpeg:https://buurtinfoquartier.be/wp-content/uploads/2025/03/EPN-OCR-Brabant_Affiche_JUIN-2025.jpg
END:VEVENT
BEGIN:VEVENT
DTSTART;TZID=Europe/Brussels:20251113T160000
DTEND;TZID=Europe/Brussels:20251113T180000
DTSTAMP:20260425T123014
CREATED:20251028T103452Z
LAST-MODIFIED:20251028T103455Z
UID:10006228-1763049600-1763056800@buurtinfoquartier.be
SUMMARY:Les Pâtes au Beurre
DESCRIPTION:Un lieu de parole et de partage collectif anonyme\, sans rendez-vous pour des parents avec enfants sans limite d’âge. Encadré par des psychologues\, psychomotricienne.
URL:https://buurtinfoquartier.be/nl/agenda/les-pates-au-beurre-3/2025-11-13/
LOCATION:Maison des Parents\, rue Dupont 20\, Schaerbeek\, 1030\, Belgique
CATEGORIES:Activités
ATTACH;FMTTYPE=image/jpeg:https://buurtinfoquartier.be/wp-content/uploads/2025/10/Logo-Les-Pates-au-Beurre.jpg
END:VEVENT
BEGIN:VEVENT
DTSTART;TZID=Europe/Brussels:20251113T100000
DTEND;TZID=Europe/Brussels:20251113T180000
DTSTAMP:20260425T123014
CREATED:20250313T143919Z
LAST-MODIFIED:20250701T123105Z
UID:10004548-1763028000-1763056800@buurtinfoquartier.be
SUMMARY:Espace Public Numérique Brabant
DESCRIPTION:Espace ouvert à tout le monde\, avec des ordinateurs\, internet etquelqu’un pour vous aider. Gratuit et sans rendez-vous. \n\n\n\nVoire l’affiche pour l’horraire des activités. Info : 0471 98 30 96 – EPN Brabant
URL:https://buurtinfoquartier.be/nl/agenda/espace-public-numerique-brabant/2025-11-13/
ATTACH;FMTTYPE=image/jpeg:https://buurtinfoquartier.be/wp-content/uploads/2025/03/EPN-OCR-Brabant_Affiche_JUIN-2025.jpg
END:VEVENT
BEGIN:VEVENT
DTSTART;TZID=Europe/Brussels:20251112T153000
DTEND;TZID=Europe/Brussels:20251112T170000
DTSTAMP:20260425T123014
CREATED:20251028T105351Z
LAST-MODIFIED:20251028T105355Z
UID:10006280-1762961400-1762966800@buurtinfoquartier.be
SUMMARY:Bibliothèque et ludothèque
DESCRIPTION:Venez découvrir 165 jeux pour tous les âges\, de 0 à 99 ans\, ainsi qu’une sélection de livres pour les enfants de 2\,5 à 12 ans\, et quelques ouvrages pour les adolescents. Emprunter des jeux et des livres ou simplement lire et jouer sur place\, c’est à vous de choisir !
URL:https://buurtinfoquartier.be/nl/agenda/bibliotheque-et-ludotheque/2025-11-12/
LOCATION:Maison des Parents\, rue Dupont 20\, Schaerbeek\, 1030\, Belgique
CATEGORIES:Activités
ATTACH;FMTTYPE=image/jpeg:https://buurtinfoquartier.be/wp-content/uploads/2025/10/Affiche-ludotheque-maison-des-parents-15.10.2025.jpg
END:VEVENT
BEGIN:VEVENT
DTSTART;TZID=Europe/Brussels:20251112T133000
DTEND;TZID=Europe/Brussels:20251112T153000
DTSTAMP:20260425T123014
CREATED:20251028T104438Z
LAST-MODIFIED:20251028T104440Z
UID:10006275-1762954200-1762961400@buurtinfoquartier.be
SUMMARY:Atelier cuisine parents-enfants
DESCRIPTION:Envie de partager un moment gourmand ensemble ? Bienvenu·e à l’atelier cuisine gratuit. Au programme: préparer\, cuisiner et déguster ensemble.
URL:https://buurtinfoquartier.be/nl/agenda/atelier-cuisine-parents-enfants/2025-11-12/
LOCATION:Maison des Parents\, rue Dupont 20\, Schaerbeek\, 1030\, Belgique
CATEGORIES:Activités
ATTACH;FMTTYPE=image/png:https://buurtinfoquartier.be/wp-content/uploads/2025/10/Affiche-atelier-cuisine-PE-sept.dec_2025.png
END:VEVENT
BEGIN:VEVENT
DTSTART;TZID=Europe/Brussels:20251112T130000
DTEND;TZID=Europe/Brussels:20251112T170000
DTSTAMP:20260425T123014
CREATED:20250109T125127Z
LAST-MODIFIED:20251110T083746Z
UID:10002207-1762952400-1762966800@buurtinfoquartier.be
SUMMARY:Activités enfants 6-12 ans
DESCRIPTION:Activité accueil temps libre pour les enfants de 6 à 12 ans. Inscription obligatoire. \n\n\n\nOrganisé par l’ASBL Avenir
URL:https://buurtinfoquartier.be/nl/agenda/activite-enfant-6-12-ans/2025-11-12/
LOCATION:Rue du Moulin\, 150\, 1210 Saint-Josse-ten-Noode\, Rue du Moulin\, 150\, Saint-Josse-ten-Noode\, 1210\, Belgique
CATEGORIES:Activités
ATTACH;FMTTYPE=image/jpeg:https://buurtinfoquartier.be/wp-content/uploads/2025/01/masque1.jpg
END:VEVENT
BEGIN:VEVENT
DTSTART;TZID=Europe/Brussels:20251112T100000
DTEND;TZID=Europe/Brussels:20251112T180000
DTSTAMP:20260425T123014
CREATED:20250313T143919Z
LAST-MODIFIED:20250701T123105Z
UID:10004547-1762941600-1762970400@buurtinfoquartier.be
SUMMARY:Espace Public Numérique Brabant
DESCRIPTION:Espace ouvert à tout le monde\, avec des ordinateurs\, internet etquelqu’un pour vous aider. Gratuit et sans rendez-vous. \n\n\n\nVoire l’affiche pour l’horraire des activités. Info : 0471 98 30 96 – EPN Brabant
URL:https://buurtinfoquartier.be/nl/agenda/espace-public-numerique-brabant/2025-11-12/
ATTACH;FMTTYPE=image/jpeg:https://buurtinfoquartier.be/wp-content/uploads/2025/03/EPN-OCR-Brabant_Affiche_JUIN-2025.jpg
END:VEVENT
BEGIN:VEVENT
DTSTART;TZID=Europe/Brussels:20251112T093000
DTEND;TZID=Europe/Brussels:20251112T113000
DTSTAMP:20260425T123014
CREATED:20251028T103210Z
LAST-MODIFIED:20251028T103213Z
UID:10006179-1762939800-1762947000@buurtinfoquartier.be
SUMMARY:Les Pâtes au Beurre
DESCRIPTION:Un lieu de parole et de partage collectif anonyme\, sans rendez-vous pour des parents avec enfants sans limite d’âge. Encadré par des psychologues\, psychomotricienne.
URL:https://buurtinfoquartier.be/nl/agenda/les-pates-au-beurre-2/2025-11-12/
LOCATION:Maison des Parents\, rue Dupont 20\, Schaerbeek\, 1030\, Belgique
CATEGORIES:Activités
ATTACH;FMTTYPE=image/jpeg:https://buurtinfoquartier.be/wp-content/uploads/2025/10/Logo-Les-Pates-au-Beurre.jpg
END:VEVENT
BEGIN:VEVENT
DTSTART;TZID=Europe/Brussels:20251111T133000
DTEND;TZID=Europe/Brussels:20251111T173000
DTSTAMP:20260425T123014
CREATED:20240925T142937Z
LAST-MODIFIED:20250313T071609Z
UID:10001401-1762867800-1762882200@buurtinfoquartier.be
SUMMARY:Pshychomotricité parents-enfants
DESCRIPTION:Sur inscription – gratuit \n\n\n\nContact: Astrid Galliot au 0484 81 55 85
URL:https://buurtinfoquartier.be/nl/agenda/pshychomotricite-parents-enfants/2025-11-11/
LOCATION:Maison des Parents\, rue Dupont 20\, Schaerbeek\, 1030\, Belgique
CATEGORIES:Activités
ATTACH;FMTTYPE=image/png:https://buurtinfoquartier.be/wp-content/uploads/2024/09/Pictos-GTa-info-13-e1727970744909.png
END:VEVENT
BEGIN:VEVENT
DTSTART;TZID=Europe/Brussels:20251111T100000
DTEND;TZID=Europe/Brussels:20251111T180000
DTSTAMP:20260425T123014
CREATED:20250313T143919Z
LAST-MODIFIED:20250701T123105Z
UID:10004546-1762855200-1762884000@buurtinfoquartier.be
SUMMARY:Espace Public Numérique Brabant
DESCRIPTION:Espace ouvert à tout le monde\, avec des ordinateurs\, internet etquelqu’un pour vous aider. Gratuit et sans rendez-vous. \n\n\n\nVoire l’affiche pour l’horraire des activités. Info : 0471 98 30 96 – EPN Brabant
URL:https://buurtinfoquartier.be/nl/agenda/espace-public-numerique-brabant/2025-11-11/
ATTACH;FMTTYPE=image/jpeg:https://buurtinfoquartier.be/wp-content/uploads/2025/03/EPN-OCR-Brabant_Affiche_JUIN-2025.jpg
END:VEVENT
BEGIN:VEVENT
DTSTART;TZID=Europe/Brussels:20251111T093000
DTEND;TZID=Europe/Brussels:20251111T120000
DTSTAMP:20260425T123014
CREATED:20250313T071118Z
LAST-MODIFIED:20250313T071120Z
UID:10000880-1762853400-1762862400@buurtinfoquartier.be
SUMMARY:Comité des femmes
DESCRIPTION:Echanges et rencontres entre femmes autour d’une activité ou un café. \n\n\n\nSur inscription – gratuit \n\n\n\nContact: Maud Verjus ou Nathalie Thomas au 02 218 56 08
URL:https://buurtinfoquartier.be/nl/agenda/comite-des-femmes-2/2025-11-11/
LOCATION:Maison des Parents\, rue Dupont 20\, Schaerbeek\, 1030\, Belgique
CATEGORIES:Activités
ATTACH;FMTTYPE=image/jpeg:https://buurtinfoquartier.be/wp-content/uploads/2024/09/Pictos-GTa-info-e1727970140216.jpg
END:VEVENT
BEGIN:VEVENT
DTSTART;TZID=Europe/Brussels:20251110T140000
DTEND;TZID=Europe/Brussels:20251110T160000
DTSTAMP:20260425T123014
CREATED:20251028T103056Z
LAST-MODIFIED:20251028T103100Z
UID:10005918-1762783200-1762790400@buurtinfoquartier.be
SUMMARY:Groupe Bag
DESCRIPTION:Atelier psychocorporel\, contes et art-thérapie pour femmes.
URL:https://buurtinfoquartier.be/nl/agenda/groupe-bag/2025-11-10/
LOCATION:Maison des Parents\, rue Dupont 20\, Schaerbeek\, 1030\, Belgique
CATEGORIES:Activités
ATTACH;FMTTYPE=image/jpeg:https://buurtinfoquartier.be/wp-content/uploads/2024/08/Logo-Atouts-Parents.jpg
END:VEVENT
BEGIN:VEVENT
DTSTART;TZID=Europe/Brussels:20251110T100000
DTEND;TZID=Europe/Brussels:20251110T180000
DTSTAMP:20260425T123014
CREATED:20250313T143919Z
LAST-MODIFIED:20250701T123105Z
UID:10004545-1762768800-1762797600@buurtinfoquartier.be
SUMMARY:Espace Public Numérique Brabant
DESCRIPTION:Espace ouvert à tout le monde\, avec des ordinateurs\, internet etquelqu’un pour vous aider. Gratuit et sans rendez-vous. \n\n\n\nVoire l’affiche pour l’horraire des activités. Info : 0471 98 30 96 – EPN Brabant
URL:https://buurtinfoquartier.be/nl/agenda/espace-public-numerique-brabant/2025-11-10/
ATTACH;FMTTYPE=image/jpeg:https://buurtinfoquartier.be/wp-content/uploads/2025/03/EPN-OCR-Brabant_Affiche_JUIN-2025.jpg
END:VEVENT
BEGIN:VEVENT
DTSTART;TZID=Europe/Brussels:20251110T090000
DTEND;TZID=Europe/Brussels:20251110T110000
DTSTAMP:20260425T123014
CREATED:20240925T141512Z
LAST-MODIFIED:20250313T070728Z
UID:10000619-1762765200-1762772400@buurtinfoquartier.be
SUMMARY:Café Papote des parents
DESCRIPTION:Pour prendre du temps pour soi et échanger avec d’autres parents. \n\n\n\nContact: Sonia de Clerck \n\n\n\n 
URL:https://buurtinfoquartier.be/nl/agenda/cafe-papote/2025-11-10/
LOCATION:Maison des Parents\, rue Dupont 20\, Schaerbeek\, 1030\, Belgique
CATEGORIES:Activités
ATTACH;FMTTYPE=image/png:https://buurtinfoquartier.be/wp-content/uploads/2024/09/Pictos-GTa-info-11.png
END:VEVENT
BEGIN:VEVENT
DTSTART;TZID=Europe/Brussels:20251109T140000
DTEND;TZID=Europe/Brussels:20251109T160000
DTSTAMP:20260425T123014
CREATED:20250307T130159Z
LAST-MODIFIED:20250313T070609Z
UID:10002508-1762696800-1762704000@buurtinfoquartier.be
SUMMARY:Aterliers Hiphop
DESCRIPTION:Cours de Breakdance\, graffiti\, rap\, beatbox… C’est gratuit. \n\n\n\nTous les samedis et dimanches de 14h à 16h.
URL:https://buurtinfoquartier.be/nl/agenda/aterliers-hiphop/2025-11-09/
LOCATION:TRACK\, Rue du Progrès 76\, Schaerbeek\, 1030\, Belgique
ATTACH;FMTTYPE=image/jpeg:https://buurtinfoquartier.be/wp-content/uploads/2025/03/Visuel-HHS-2025.TRACK-photo.jpg
END:VEVENT
BEGIN:VEVENT
DTSTART;TZID=Europe/Brussels:20251108T140000
DTEND;TZID=Europe/Brussels:20251108T160000
DTSTAMP:20260425T123014
CREATED:20250307T130159Z
LAST-MODIFIED:20250313T070609Z
UID:10002507-1762610400-1762617600@buurtinfoquartier.be
SUMMARY:Aterliers Hiphop
DESCRIPTION:Cours de Breakdance\, graffiti\, rap\, beatbox… C’est gratuit. \n\n\n\nTous les samedis et dimanches de 14h à 16h.
URL:https://buurtinfoquartier.be/nl/agenda/aterliers-hiphop/2025-11-08/
LOCATION:TRACK\, Rue du Progrès 76\, Schaerbeek\, 1030\, Belgique
ATTACH;FMTTYPE=image/jpeg:https://buurtinfoquartier.be/wp-content/uploads/2025/03/Visuel-HHS-2025.TRACK-photo.jpg
END:VEVENT
BEGIN:VEVENT
DTSTART;TZID=Europe/Brussels:20251107T150000
DTEND;TZID=Europe/Brussels:20251107T170000
DTSTAMP:20260425T123014
CREATED:20251028T105634Z
LAST-MODIFIED:20251028T105636Z
UID:10006328-1762527600-1762534800@buurtinfoquartier.be
SUMMARY:Bibliothèque et ludothèque
DESCRIPTION:Venez découvrir 165 jeux pour tous les âges\, de 0 à 99 ans\, ainsi qu’une sélection de livres pour les enfants de 2\,5 à 12 ans\, et quelques ouvrages pour les adolescents. Emprunter des jeux et des livres ou simplement lire et jouer sur place\, c’est à vous de choisir !
URL:https://buurtinfoquartier.be/nl/agenda/bibliotheque-et-ludotheque-2/2025-11-07/
LOCATION:Maison des Parents\, rue Dupont 20\, Schaerbeek\, 1030\, Belgique
CATEGORIES:Activités
ATTACH;FMTTYPE=image/jpeg:https://buurtinfoquartier.be/wp-content/uploads/2025/10/Affiche-ludotheque-maison-des-parents-15.10.2025.jpg
END:VEVENT
BEGIN:VEVENT
DTSTART;TZID=Europe/Brussels:20251107T100000
DTEND;TZID=Europe/Brussels:20251107T180000
DTSTAMP:20260425T123014
CREATED:20250313T143919Z
LAST-MODIFIED:20250701T123105Z
UID:10004544-1762509600-1762538400@buurtinfoquartier.be
SUMMARY:Espace Public Numérique Brabant
DESCRIPTION:Espace ouvert à tout le monde\, avec des ordinateurs\, internet etquelqu’un pour vous aider. Gratuit et sans rendez-vous. \n\n\n\nVoire l’affiche pour l’horraire des activités. Info : 0471 98 30 96 – EPN Brabant
URL:https://buurtinfoquartier.be/nl/agenda/espace-public-numerique-brabant/2025-11-07/
ATTACH;FMTTYPE=image/jpeg:https://buurtinfoquartier.be/wp-content/uploads/2025/03/EPN-OCR-Brabant_Affiche_JUIN-2025.jpg
END:VEVENT
BEGIN:VEVENT
DTSTART;TZID=Europe/Brussels:20251106T160000
DTEND;TZID=Europe/Brussels:20251106T180000
DTSTAMP:20260425T123014
CREATED:20251028T103452Z
LAST-MODIFIED:20251028T103455Z
UID:10006227-1762444800-1762452000@buurtinfoquartier.be
SUMMARY:Les Pâtes au Beurre
DESCRIPTION:Un lieu de parole et de partage collectif anonyme\, sans rendez-vous pour des parents avec enfants sans limite d’âge. Encadré par des psychologues\, psychomotricienne.
URL:https://buurtinfoquartier.be/nl/agenda/les-pates-au-beurre-3/2025-11-06/
LOCATION:Maison des Parents\, rue Dupont 20\, Schaerbeek\, 1030\, Belgique
CATEGORIES:Activités
ATTACH;FMTTYPE=image/jpeg:https://buurtinfoquartier.be/wp-content/uploads/2025/10/Logo-Les-Pates-au-Beurre.jpg
END:VEVENT
BEGIN:VEVENT
DTSTART;TZID=Europe/Brussels:20251106T100000
DTEND;TZID=Europe/Brussels:20251106T180000
DTSTAMP:20260425T123014
CREATED:20250313T143919Z
LAST-MODIFIED:20250701T123105Z
UID:10004543-1762423200-1762452000@buurtinfoquartier.be
SUMMARY:Espace Public Numérique Brabant
DESCRIPTION:Espace ouvert à tout le monde\, avec des ordinateurs\, internet etquelqu’un pour vous aider. Gratuit et sans rendez-vous. \n\n\n\nVoire l’affiche pour l’horraire des activités. Info : 0471 98 30 96 – EPN Brabant
URL:https://buurtinfoquartier.be/nl/agenda/espace-public-numerique-brabant/2025-11-06/
ATTACH;FMTTYPE=image/jpeg:https://buurtinfoquartier.be/wp-content/uploads/2025/03/EPN-OCR-Brabant_Affiche_JUIN-2025.jpg
END:VEVENT
END:VCALENDAR