BEGIN:VCALENDAR
VERSION:2.0
PRODID:-//Quartier Brabant Buurt - ECPv6.15.20//NONSGML v1.0//EN
CALSCALE:GREGORIAN
METHOD:PUBLISH
X-ORIGINAL-URL:https://buurtinfoquartier.be/nl/
X-WR-CALDESC:Evenementen voor Quartier Brabant Buurt
REFRESH-INTERVAL;VALUE=DURATION:PT1H
X-Robots-Tag:noindex
X-PUBLISHED-TTL:PT1H
BEGIN:VTIMEZONE
TZID:Europe/Brussels
BEGIN:DAYLIGHT
TZOFFSETFROM:+0100
TZOFFSETTO:+0200
TZNAME:CEST
DTSTART:20250330T010000
END:DAYLIGHT
BEGIN:STANDARD
TZOFFSETFROM:+0200
TZOFFSETTO:+0100
TZNAME:CET
DTSTART:20251026T010000
END:STANDARD
BEGIN:DAYLIGHT
TZOFFSETFROM:+0100
TZOFFSETTO:+0200
TZNAME:CEST
DTSTART:20260329T010000
END:DAYLIGHT
BEGIN:STANDARD
TZOFFSETFROM:+0200
TZOFFSETTO:+0100
TZNAME:CET
DTSTART:20261025T010000
END:STANDARD
BEGIN:DAYLIGHT
TZOFFSETFROM:+0100
TZOFFSETTO:+0200
TZNAME:CEST
DTSTART:20270328T010000
END:DAYLIGHT
BEGIN:STANDARD
TZOFFSETFROM:+0200
TZOFFSETTO:+0100
TZNAME:CET
DTSTART:20271031T010000
END:STANDARD
END:VTIMEZONE
BEGIN:VEVENT
DTSTART;TZID=Europe/Brussels:20260503T140000
DTEND;TZID=Europe/Brussels:20260503T160000
DTSTAMP:20260422T154942
CREATED:20250307T130159Z
LAST-MODIFIED:20250313T070609Z
UID:10002558-1777816800-1777824000@buurtinfoquartier.be
SUMMARY:Aterliers Hiphop
DESCRIPTION:Cours de Breakdance\, graffiti\, rap\, beatbox… C’est gratuit. \n\n\n\nTous les samedis et dimanches de 14h à 16h.
URL:https://buurtinfoquartier.be/nl/agenda/aterliers-hiphop/2026-05-03/
LOCATION:TRACK\, Rue du Progrès 76\, Schaerbeek\, 1030\, Belgique
ATTACH;FMTTYPE=image/jpeg:https://buurtinfoquartier.be/wp-content/uploads/2025/03/Visuel-HHS-2025.TRACK-photo.jpg
END:VEVENT
BEGIN:VEVENT
DTSTART;TZID=Europe/Brussels:20260504T090000
DTEND;TZID=Europe/Brussels:20260504T110000
DTSTAMP:20260422T154942
CREATED:20240925T141512Z
LAST-MODIFIED:20250313T070728Z
UID:10000644-1777885200-1777892400@buurtinfoquartier.be
SUMMARY:Café Papote des parents
DESCRIPTION:Pour prendre du temps pour soi et échanger avec d’autres parents. \n\n\n\nContact: Sonia de Clerck \n\n\n\n 
URL:https://buurtinfoquartier.be/nl/agenda/cafe-papote/2026-05-04/
LOCATION:Maison des Parents\, rue Dupont 20\, Schaerbeek\, 1030\, Belgique
CATEGORIES:Activités
ATTACH;FMTTYPE=image/png:https://buurtinfoquartier.be/wp-content/uploads/2024/09/Pictos-GTa-info-11.png
END:VEVENT
BEGIN:VEVENT
DTSTART;TZID=Europe/Brussels:20260504T100000
DTEND;TZID=Europe/Brussels:20260504T180000
DTSTAMP:20260422T154942
CREATED:20250313T143919Z
LAST-MODIFIED:20250701T123105Z
UID:10004670-1777888800-1777917600@buurtinfoquartier.be
SUMMARY:Espace Public Numérique Brabant
DESCRIPTION:Espace ouvert à tout le monde\, avec des ordinateurs\, internet etquelqu’un pour vous aider. Gratuit et sans rendez-vous. \n\n\n\nVoire l’affiche pour l’horraire des activités. Info : 0471 98 30 96 – EPN Brabant
URL:https://buurtinfoquartier.be/nl/agenda/espace-public-numerique-brabant/2026-05-04/
ATTACH;FMTTYPE=image/jpeg:https://buurtinfoquartier.be/wp-content/uploads/2025/03/EPN-OCR-Brabant_Affiche_JUIN-2025.jpg
END:VEVENT
BEGIN:VEVENT
DTSTART;TZID=Europe/Brussels:20260504T140000
DTEND;TZID=Europe/Brussels:20260504T160000
DTSTAMP:20260422T154942
CREATED:20251028T103056Z
LAST-MODIFIED:20251028T103100Z
UID:10005943-1777903200-1777910400@buurtinfoquartier.be
SUMMARY:Groupe Bag
DESCRIPTION:Atelier psychocorporel\, contes et art-thérapie pour femmes.
URL:https://buurtinfoquartier.be/nl/agenda/groupe-bag/2026-05-04/
LOCATION:Maison des Parents\, rue Dupont 20\, Schaerbeek\, 1030\, Belgique
CATEGORIES:Activités
ATTACH;FMTTYPE=image/jpeg:https://buurtinfoquartier.be/wp-content/uploads/2024/08/Logo-Atouts-Parents.jpg
END:VEVENT
BEGIN:VEVENT
DTSTART;TZID=Europe/Brussels:20260505T093000
DTEND;TZID=Europe/Brussels:20260505T120000
DTSTAMP:20260422T154942
CREATED:20250313T071118Z
LAST-MODIFIED:20250313T071120Z
UID:10000905-1777973400-1777982400@buurtinfoquartier.be
SUMMARY:Comité des femmes
DESCRIPTION:Echanges et rencontres entre femmes autour d’une activité ou un café. \n\n\n\nSur inscription – gratuit \n\n\n\nContact: Maud Verjus ou Nathalie Thomas au 02 218 56 08
URL:https://buurtinfoquartier.be/nl/agenda/comite-des-femmes-2/2026-05-05/
LOCATION:Maison des Parents\, rue Dupont 20\, Schaerbeek\, 1030\, Belgique
CATEGORIES:Activités
ATTACH;FMTTYPE=image/jpeg:https://buurtinfoquartier.be/wp-content/uploads/2024/09/Pictos-GTa-info-e1727970140216.jpg
END:VEVENT
BEGIN:VEVENT
DTSTART;TZID=Europe/Brussels:20260505T100000
DTEND;TZID=Europe/Brussels:20260505T180000
DTSTAMP:20260422T154942
CREATED:20250313T143919Z
LAST-MODIFIED:20250701T123105Z
UID:10004671-1777975200-1778004000@buurtinfoquartier.be
SUMMARY:Espace Public Numérique Brabant
DESCRIPTION:Espace ouvert à tout le monde\, avec des ordinateurs\, internet etquelqu’un pour vous aider. Gratuit et sans rendez-vous. \n\n\n\nVoire l’affiche pour l’horraire des activités. Info : 0471 98 30 96 – EPN Brabant
URL:https://buurtinfoquartier.be/nl/agenda/espace-public-numerique-brabant/2026-05-05/
ATTACH;FMTTYPE=image/jpeg:https://buurtinfoquartier.be/wp-content/uploads/2025/03/EPN-OCR-Brabant_Affiche_JUIN-2025.jpg
END:VEVENT
BEGIN:VEVENT
DTSTART;TZID=Europe/Brussels:20260505T133000
DTEND;TZID=Europe/Brussels:20260505T173000
DTSTAMP:20260422T154942
CREATED:20240925T142937Z
LAST-MODIFIED:20250313T071609Z
UID:10001426-1777987800-1778002200@buurtinfoquartier.be
SUMMARY:Pshychomotricité parents-enfants
DESCRIPTION:Sur inscription – gratuit \n\n\n\nContact: Astrid Galliot au 0484 81 55 85
URL:https://buurtinfoquartier.be/nl/agenda/pshychomotricite-parents-enfants/2026-05-05/
LOCATION:Maison des Parents\, rue Dupont 20\, Schaerbeek\, 1030\, Belgique
CATEGORIES:Activités
ATTACH;FMTTYPE=image/png:https://buurtinfoquartier.be/wp-content/uploads/2024/09/Pictos-GTa-info-13-e1727970744909.png
END:VEVENT
BEGIN:VEVENT
DTSTART;TZID=Europe/Brussels:20260506T093000
DTEND;TZID=Europe/Brussels:20260506T113000
DTSTAMP:20260422T154942
CREATED:20251028T103210Z
LAST-MODIFIED:20251028T103213Z
UID:10006204-1778059800-1778067000@buurtinfoquartier.be
SUMMARY:Les Pâtes au Beurre
DESCRIPTION:Un lieu de parole et de partage collectif anonyme\, sans rendez-vous pour des parents avec enfants sans limite d’âge. Encadré par des psychologues\, psychomotricienne.
URL:https://buurtinfoquartier.be/nl/agenda/les-pates-au-beurre-2/2026-05-06/
LOCATION:Maison des Parents\, rue Dupont 20\, Schaerbeek\, 1030\, Belgique
CATEGORIES:Activités
ATTACH;FMTTYPE=image/jpeg:https://buurtinfoquartier.be/wp-content/uploads/2025/10/Logo-Les-Pates-au-Beurre.jpg
END:VEVENT
BEGIN:VEVENT
DTSTART;TZID=Europe/Brussels:20260506T100000
DTEND;TZID=Europe/Brussels:20260506T180000
DTSTAMP:20260422T154942
CREATED:20250313T143919Z
LAST-MODIFIED:20250701T123105Z
UID:10004672-1778061600-1778090400@buurtinfoquartier.be
SUMMARY:Espace Public Numérique Brabant
DESCRIPTION:Espace ouvert à tout le monde\, avec des ordinateurs\, internet etquelqu’un pour vous aider. Gratuit et sans rendez-vous. \n\n\n\nVoire l’affiche pour l’horraire des activités. Info : 0471 98 30 96 – EPN Brabant
URL:https://buurtinfoquartier.be/nl/agenda/espace-public-numerique-brabant/2026-05-06/
ATTACH;FMTTYPE=image/jpeg:https://buurtinfoquartier.be/wp-content/uploads/2025/03/EPN-OCR-Brabant_Affiche_JUIN-2025.jpg
END:VEVENT
BEGIN:VEVENT
DTSTART;TZID=Europe/Brussels:20260506T130000
DTEND;TZID=Europe/Brussels:20260506T170000
DTSTAMP:20260422T154942
CREATED:20250109T125127Z
LAST-MODIFIED:20251110T083746Z
UID:10002232-1778072400-1778086800@buurtinfoquartier.be
SUMMARY:Activités enfants 6-12 ans
DESCRIPTION:Activité accueil temps libre pour les enfants de 6 à 12 ans. Inscription obligatoire. \n\n\n\nOrganisé par l’ASBL Avenir
URL:https://buurtinfoquartier.be/nl/agenda/activite-enfant-6-12-ans/2026-05-06/
LOCATION:Rue du Moulin\, 150\, 1210 Saint-Josse-ten-Noode\, Rue du Moulin\, 150\, Saint-Josse-ten-Noode\, 1210\, Belgique
CATEGORIES:Activités
ATTACH;FMTTYPE=image/jpeg:https://buurtinfoquartier.be/wp-content/uploads/2025/01/masque1.jpg
END:VEVENT
BEGIN:VEVENT
DTSTART;TZID=Europe/Brussels:20260506T153000
DTEND;TZID=Europe/Brussels:20260506T170000
DTSTAMP:20260422T154942
CREATED:20251028T105351Z
LAST-MODIFIED:20251028T105355Z
UID:10006305-1778081400-1778086800@buurtinfoquartier.be
SUMMARY:Bibliothèque et ludothèque
DESCRIPTION:Venez découvrir 165 jeux pour tous les âges\, de 0 à 99 ans\, ainsi qu’une sélection de livres pour les enfants de 2\,5 à 12 ans\, et quelques ouvrages pour les adolescents. Emprunter des jeux et des livres ou simplement lire et jouer sur place\, c’est à vous de choisir !
URL:https://buurtinfoquartier.be/nl/agenda/bibliotheque-et-ludotheque/2026-05-06/
LOCATION:Maison des Parents\, rue Dupont 20\, Schaerbeek\, 1030\, Belgique
CATEGORIES:Activités
ATTACH;FMTTYPE=image/jpeg:https://buurtinfoquartier.be/wp-content/uploads/2025/10/Affiche-ludotheque-maison-des-parents-15.10.2025.jpg
END:VEVENT
BEGIN:VEVENT
DTSTART;TZID=Europe/Brussels:20260507T100000
DTEND;TZID=Europe/Brussels:20260507T180000
DTSTAMP:20260422T154942
CREATED:20250313T143919Z
LAST-MODIFIED:20250701T123105Z
UID:10004673-1778148000-1778176800@buurtinfoquartier.be
SUMMARY:Espace Public Numérique Brabant
DESCRIPTION:Espace ouvert à tout le monde\, avec des ordinateurs\, internet etquelqu’un pour vous aider. Gratuit et sans rendez-vous. \n\n\n\nVoire l’affiche pour l’horraire des activités. Info : 0471 98 30 96 – EPN Brabant
URL:https://buurtinfoquartier.be/nl/agenda/espace-public-numerique-brabant/2026-05-07/
ATTACH;FMTTYPE=image/jpeg:https://buurtinfoquartier.be/wp-content/uploads/2025/03/EPN-OCR-Brabant_Affiche_JUIN-2025.jpg
END:VEVENT
BEGIN:VEVENT
DTSTART;TZID=Europe/Brussels:20260507T160000
DTEND;TZID=Europe/Brussels:20260507T180000
DTSTAMP:20260422T154942
CREATED:20251028T103452Z
LAST-MODIFIED:20251028T103455Z
UID:10006253-1778169600-1778176800@buurtinfoquartier.be
SUMMARY:Les Pâtes au Beurre
DESCRIPTION:Un lieu de parole et de partage collectif anonyme\, sans rendez-vous pour des parents avec enfants sans limite d’âge. Encadré par des psychologues\, psychomotricienne.
URL:https://buurtinfoquartier.be/nl/agenda/les-pates-au-beurre-3/2026-05-07/
LOCATION:Maison des Parents\, rue Dupont 20\, Schaerbeek\, 1030\, Belgique
CATEGORIES:Activités
ATTACH;FMTTYPE=image/jpeg:https://buurtinfoquartier.be/wp-content/uploads/2025/10/Logo-Les-Pates-au-Beurre.jpg
END:VEVENT
BEGIN:VEVENT
DTSTART;TZID=Europe/Brussels:20260508T100000
DTEND;TZID=Europe/Brussels:20260508T180000
DTSTAMP:20260422T154942
CREATED:20250313T143919Z
LAST-MODIFIED:20250701T123105Z
UID:10004674-1778234400-1778263200@buurtinfoquartier.be
SUMMARY:Espace Public Numérique Brabant
DESCRIPTION:Espace ouvert à tout le monde\, avec des ordinateurs\, internet etquelqu’un pour vous aider. Gratuit et sans rendez-vous. \n\n\n\nVoire l’affiche pour l’horraire des activités. Info : 0471 98 30 96 – EPN Brabant
URL:https://buurtinfoquartier.be/nl/agenda/espace-public-numerique-brabant/2026-05-08/
ATTACH;FMTTYPE=image/jpeg:https://buurtinfoquartier.be/wp-content/uploads/2025/03/EPN-OCR-Brabant_Affiche_JUIN-2025.jpg
END:VEVENT
BEGIN:VEVENT
DTSTART;TZID=Europe/Brussels:20260508T150000
DTEND;TZID=Europe/Brussels:20260508T170000
DTSTAMP:20260422T154942
CREATED:20251028T105634Z
LAST-MODIFIED:20251028T105636Z
UID:10006354-1778252400-1778259600@buurtinfoquartier.be
SUMMARY:Bibliothèque et ludothèque
DESCRIPTION:Venez découvrir 165 jeux pour tous les âges\, de 0 à 99 ans\, ainsi qu’une sélection de livres pour les enfants de 2\,5 à 12 ans\, et quelques ouvrages pour les adolescents. Emprunter des jeux et des livres ou simplement lire et jouer sur place\, c’est à vous de choisir !
URL:https://buurtinfoquartier.be/nl/agenda/bibliotheque-et-ludotheque-2/2026-05-08/
LOCATION:Maison des Parents\, rue Dupont 20\, Schaerbeek\, 1030\, Belgique
CATEGORIES:Activités
ATTACH;FMTTYPE=image/jpeg:https://buurtinfoquartier.be/wp-content/uploads/2025/10/Affiche-ludotheque-maison-des-parents-15.10.2025.jpg
END:VEVENT
BEGIN:VEVENT
DTSTART;TZID=Europe/Brussels:20260509T140000
DTEND;TZID=Europe/Brussels:20260509T160000
DTSTAMP:20260422T154942
CREATED:20250307T130159Z
LAST-MODIFIED:20250313T070609Z
UID:10002559-1778335200-1778342400@buurtinfoquartier.be
SUMMARY:Aterliers Hiphop
DESCRIPTION:Cours de Breakdance\, graffiti\, rap\, beatbox… C’est gratuit. \n\n\n\nTous les samedis et dimanches de 14h à 16h.
URL:https://buurtinfoquartier.be/nl/agenda/aterliers-hiphop/2026-05-09/
LOCATION:TRACK\, Rue du Progrès 76\, Schaerbeek\, 1030\, Belgique
ATTACH;FMTTYPE=image/jpeg:https://buurtinfoquartier.be/wp-content/uploads/2025/03/Visuel-HHS-2025.TRACK-photo.jpg
END:VEVENT
BEGIN:VEVENT
DTSTART;TZID=Europe/Brussels:20260510T140000
DTEND;TZID=Europe/Brussels:20260510T160000
DTSTAMP:20260422T154942
CREATED:20250307T130159Z
LAST-MODIFIED:20250313T070609Z
UID:10002560-1778421600-1778428800@buurtinfoquartier.be
SUMMARY:Aterliers Hiphop
DESCRIPTION:Cours de Breakdance\, graffiti\, rap\, beatbox… C’est gratuit. \n\n\n\nTous les samedis et dimanches de 14h à 16h.
URL:https://buurtinfoquartier.be/nl/agenda/aterliers-hiphop/2026-05-10/
LOCATION:TRACK\, Rue du Progrès 76\, Schaerbeek\, 1030\, Belgique
ATTACH;FMTTYPE=image/jpeg:https://buurtinfoquartier.be/wp-content/uploads/2025/03/Visuel-HHS-2025.TRACK-photo.jpg
END:VEVENT
BEGIN:VEVENT
DTSTART;TZID=Europe/Brussels:20260511T090000
DTEND;TZID=Europe/Brussels:20260511T110000
DTSTAMP:20260422T154942
CREATED:20240925T141512Z
LAST-MODIFIED:20250313T070728Z
UID:10000645-1778490000-1778497200@buurtinfoquartier.be
SUMMARY:Café Papote des parents
DESCRIPTION:Pour prendre du temps pour soi et échanger avec d’autres parents. \n\n\n\nContact: Sonia de Clerck \n\n\n\n 
URL:https://buurtinfoquartier.be/nl/agenda/cafe-papote/2026-05-11/
LOCATION:Maison des Parents\, rue Dupont 20\, Schaerbeek\, 1030\, Belgique
CATEGORIES:Activités
ATTACH;FMTTYPE=image/png:https://buurtinfoquartier.be/wp-content/uploads/2024/09/Pictos-GTa-info-11.png
END:VEVENT
BEGIN:VEVENT
DTSTART;TZID=Europe/Brussels:20260511T100000
DTEND;TZID=Europe/Brussels:20260511T180000
DTSTAMP:20260422T154942
CREATED:20250313T143919Z
LAST-MODIFIED:20250701T123105Z
UID:10004675-1778493600-1778522400@buurtinfoquartier.be
SUMMARY:Espace Public Numérique Brabant
DESCRIPTION:Espace ouvert à tout le monde\, avec des ordinateurs\, internet etquelqu’un pour vous aider. Gratuit et sans rendez-vous. \n\n\n\nVoire l’affiche pour l’horraire des activités. Info : 0471 98 30 96 – EPN Brabant
URL:https://buurtinfoquartier.be/nl/agenda/espace-public-numerique-brabant/2026-05-11/
ATTACH;FMTTYPE=image/jpeg:https://buurtinfoquartier.be/wp-content/uploads/2025/03/EPN-OCR-Brabant_Affiche_JUIN-2025.jpg
END:VEVENT
BEGIN:VEVENT
DTSTART;TZID=Europe/Brussels:20260511T140000
DTEND;TZID=Europe/Brussels:20260511T160000
DTSTAMP:20260422T154942
CREATED:20251028T103056Z
LAST-MODIFIED:20251028T103100Z
UID:10005944-1778508000-1778515200@buurtinfoquartier.be
SUMMARY:Groupe Bag
DESCRIPTION:Atelier psychocorporel\, contes et art-thérapie pour femmes.
URL:https://buurtinfoquartier.be/nl/agenda/groupe-bag/2026-05-11/
LOCATION:Maison des Parents\, rue Dupont 20\, Schaerbeek\, 1030\, Belgique
CATEGORIES:Activités
ATTACH;FMTTYPE=image/jpeg:https://buurtinfoquartier.be/wp-content/uploads/2024/08/Logo-Atouts-Parents.jpg
END:VEVENT
BEGIN:VEVENT
DTSTART;TZID=Europe/Brussels:20260512T093000
DTEND;TZID=Europe/Brussels:20260512T120000
DTSTAMP:20260422T154942
CREATED:20250313T071118Z
LAST-MODIFIED:20250313T071120Z
UID:10000906-1778578200-1778587200@buurtinfoquartier.be
SUMMARY:Comité des femmes
DESCRIPTION:Echanges et rencontres entre femmes autour d’une activité ou un café. \n\n\n\nSur inscription – gratuit \n\n\n\nContact: Maud Verjus ou Nathalie Thomas au 02 218 56 08
URL:https://buurtinfoquartier.be/nl/agenda/comite-des-femmes-2/2026-05-12/
LOCATION:Maison des Parents\, rue Dupont 20\, Schaerbeek\, 1030\, Belgique
CATEGORIES:Activités
ATTACH;FMTTYPE=image/jpeg:https://buurtinfoquartier.be/wp-content/uploads/2024/09/Pictos-GTa-info-e1727970140216.jpg
END:VEVENT
BEGIN:VEVENT
DTSTART;TZID=Europe/Brussels:20260512T100000
DTEND;TZID=Europe/Brussels:20260512T180000
DTSTAMP:20260422T154942
CREATED:20250313T143919Z
LAST-MODIFIED:20250701T123105Z
UID:10004676-1778580000-1778608800@buurtinfoquartier.be
SUMMARY:Espace Public Numérique Brabant
DESCRIPTION:Espace ouvert à tout le monde\, avec des ordinateurs\, internet etquelqu’un pour vous aider. Gratuit et sans rendez-vous. \n\n\n\nVoire l’affiche pour l’horraire des activités. Info : 0471 98 30 96 – EPN Brabant
URL:https://buurtinfoquartier.be/nl/agenda/espace-public-numerique-brabant/2026-05-12/
ATTACH;FMTTYPE=image/jpeg:https://buurtinfoquartier.be/wp-content/uploads/2025/03/EPN-OCR-Brabant_Affiche_JUIN-2025.jpg
END:VEVENT
BEGIN:VEVENT
DTSTART;TZID=Europe/Brussels:20260512T133000
DTEND;TZID=Europe/Brussels:20260512T173000
DTSTAMP:20260422T154942
CREATED:20240925T142937Z
LAST-MODIFIED:20250313T071609Z
UID:10001427-1778592600-1778607000@buurtinfoquartier.be
SUMMARY:Pshychomotricité parents-enfants
DESCRIPTION:Sur inscription – gratuit \n\n\n\nContact: Astrid Galliot au 0484 81 55 85
URL:https://buurtinfoquartier.be/nl/agenda/pshychomotricite-parents-enfants/2026-05-12/
LOCATION:Maison des Parents\, rue Dupont 20\, Schaerbeek\, 1030\, Belgique
CATEGORIES:Activités
ATTACH;FMTTYPE=image/png:https://buurtinfoquartier.be/wp-content/uploads/2024/09/Pictos-GTa-info-13-e1727970744909.png
END:VEVENT
BEGIN:VEVENT
DTSTART;TZID=Europe/Brussels:20260513T093000
DTEND;TZID=Europe/Brussels:20260513T113000
DTSTAMP:20260422T154942
CREATED:20251028T103210Z
LAST-MODIFIED:20251028T103213Z
UID:10006205-1778664600-1778671800@buurtinfoquartier.be
SUMMARY:Les Pâtes au Beurre
DESCRIPTION:Un lieu de parole et de partage collectif anonyme\, sans rendez-vous pour des parents avec enfants sans limite d’âge. Encadré par des psychologues\, psychomotricienne.
URL:https://buurtinfoquartier.be/nl/agenda/les-pates-au-beurre-2/2026-05-13/
LOCATION:Maison des Parents\, rue Dupont 20\, Schaerbeek\, 1030\, Belgique
CATEGORIES:Activités
ATTACH;FMTTYPE=image/jpeg:https://buurtinfoquartier.be/wp-content/uploads/2025/10/Logo-Les-Pates-au-Beurre.jpg
END:VEVENT
BEGIN:VEVENT
DTSTART;TZID=Europe/Brussels:20260513T100000
DTEND;TZID=Europe/Brussels:20260513T180000
DTSTAMP:20260422T154942
CREATED:20250313T143919Z
LAST-MODIFIED:20250701T123105Z
UID:10004677-1778666400-1778695200@buurtinfoquartier.be
SUMMARY:Espace Public Numérique Brabant
DESCRIPTION:Espace ouvert à tout le monde\, avec des ordinateurs\, internet etquelqu’un pour vous aider. Gratuit et sans rendez-vous. \n\n\n\nVoire l’affiche pour l’horraire des activités. Info : 0471 98 30 96 – EPN Brabant
URL:https://buurtinfoquartier.be/nl/agenda/espace-public-numerique-brabant/2026-05-13/
ATTACH;FMTTYPE=image/jpeg:https://buurtinfoquartier.be/wp-content/uploads/2025/03/EPN-OCR-Brabant_Affiche_JUIN-2025.jpg
END:VEVENT
BEGIN:VEVENT
DTSTART;TZID=Europe/Brussels:20260513T130000
DTEND;TZID=Europe/Brussels:20260513T170000
DTSTAMP:20260422T154942
CREATED:20250109T125127Z
LAST-MODIFIED:20251110T083746Z
UID:10002233-1778677200-1778691600@buurtinfoquartier.be
SUMMARY:Activités enfants 6-12 ans
DESCRIPTION:Activité accueil temps libre pour les enfants de 6 à 12 ans. Inscription obligatoire. \n\n\n\nOrganisé par l’ASBL Avenir
URL:https://buurtinfoquartier.be/nl/agenda/activite-enfant-6-12-ans/2026-05-13/
LOCATION:Rue du Moulin\, 150\, 1210 Saint-Josse-ten-Noode\, Rue du Moulin\, 150\, Saint-Josse-ten-Noode\, 1210\, Belgique
CATEGORIES:Activités
ATTACH;FMTTYPE=image/jpeg:https://buurtinfoquartier.be/wp-content/uploads/2025/01/masque1.jpg
END:VEVENT
BEGIN:VEVENT
DTSTART;TZID=Europe/Brussels:20260513T153000
DTEND;TZID=Europe/Brussels:20260513T170000
DTSTAMP:20260422T154942
CREATED:20251028T105351Z
LAST-MODIFIED:20251028T105355Z
UID:10006306-1778686200-1778691600@buurtinfoquartier.be
SUMMARY:Bibliothèque et ludothèque
DESCRIPTION:Venez découvrir 165 jeux pour tous les âges\, de 0 à 99 ans\, ainsi qu’une sélection de livres pour les enfants de 2\,5 à 12 ans\, et quelques ouvrages pour les adolescents. Emprunter des jeux et des livres ou simplement lire et jouer sur place\, c’est à vous de choisir !
URL:https://buurtinfoquartier.be/nl/agenda/bibliotheque-et-ludotheque/2026-05-13/
LOCATION:Maison des Parents\, rue Dupont 20\, Schaerbeek\, 1030\, Belgique
CATEGORIES:Activités
ATTACH;FMTTYPE=image/jpeg:https://buurtinfoquartier.be/wp-content/uploads/2025/10/Affiche-ludotheque-maison-des-parents-15.10.2025.jpg
END:VEVENT
BEGIN:VEVENT
DTSTART;TZID=Europe/Brussels:20260514T100000
DTEND;TZID=Europe/Brussels:20260514T180000
DTSTAMP:20260422T154942
CREATED:20250313T143919Z
LAST-MODIFIED:20250701T123105Z
UID:10004678-1778752800-1778781600@buurtinfoquartier.be
SUMMARY:Espace Public Numérique Brabant
DESCRIPTION:Espace ouvert à tout le monde\, avec des ordinateurs\, internet etquelqu’un pour vous aider. Gratuit et sans rendez-vous. \n\n\n\nVoire l’affiche pour l’horraire des activités. Info : 0471 98 30 96 – EPN Brabant
URL:https://buurtinfoquartier.be/nl/agenda/espace-public-numerique-brabant/2026-05-14/
ATTACH;FMTTYPE=image/jpeg:https://buurtinfoquartier.be/wp-content/uploads/2025/03/EPN-OCR-Brabant_Affiche_JUIN-2025.jpg
END:VEVENT
BEGIN:VEVENT
DTSTART;TZID=Europe/Brussels:20260514T160000
DTEND;TZID=Europe/Brussels:20260514T180000
DTSTAMP:20260422T154942
CREATED:20251028T103452Z
LAST-MODIFIED:20251028T103455Z
UID:10006254-1778774400-1778781600@buurtinfoquartier.be
SUMMARY:Les Pâtes au Beurre
DESCRIPTION:Un lieu de parole et de partage collectif anonyme\, sans rendez-vous pour des parents avec enfants sans limite d’âge. Encadré par des psychologues\, psychomotricienne.
URL:https://buurtinfoquartier.be/nl/agenda/les-pates-au-beurre-3/2026-05-14/
LOCATION:Maison des Parents\, rue Dupont 20\, Schaerbeek\, 1030\, Belgique
CATEGORIES:Activités
ATTACH;FMTTYPE=image/jpeg:https://buurtinfoquartier.be/wp-content/uploads/2025/10/Logo-Les-Pates-au-Beurre.jpg
END:VEVENT
BEGIN:VEVENT
DTSTART;TZID=Europe/Brussels:20260515T100000
DTEND;TZID=Europe/Brussels:20260515T180000
DTSTAMP:20260422T154942
CREATED:20250313T143919Z
LAST-MODIFIED:20250701T123105Z
UID:10004679-1778839200-1778868000@buurtinfoquartier.be
SUMMARY:Espace Public Numérique Brabant
DESCRIPTION:Espace ouvert à tout le monde\, avec des ordinateurs\, internet etquelqu’un pour vous aider. Gratuit et sans rendez-vous. \n\n\n\nVoire l’affiche pour l’horraire des activités. Info : 0471 98 30 96 – EPN Brabant
URL:https://buurtinfoquartier.be/nl/agenda/espace-public-numerique-brabant/2026-05-15/
ATTACH;FMTTYPE=image/jpeg:https://buurtinfoquartier.be/wp-content/uploads/2025/03/EPN-OCR-Brabant_Affiche_JUIN-2025.jpg
END:VEVENT
END:VCALENDAR