BEGIN:VCALENDAR
VERSION:2.0
PRODID:-//Quartier Brabant Buurt - ECPv6.15.20//NONSGML v1.0//EN
CALSCALE:GREGORIAN
METHOD:PUBLISH
X-ORIGINAL-URL:https://buurtinfoquartier.be/nl/
X-WR-CALDESC:Evenementen voor Quartier Brabant Buurt
REFRESH-INTERVAL;VALUE=DURATION:PT1H
X-Robots-Tag:noindex
X-PUBLISHED-TTL:PT1H
BEGIN:VTIMEZONE
TZID:Europe/Brussels
BEGIN:DAYLIGHT
TZOFFSETFROM:+0100
TZOFFSETTO:+0200
TZNAME:CEST
DTSTART:20250330T010000
END:DAYLIGHT
BEGIN:STANDARD
TZOFFSETFROM:+0200
TZOFFSETTO:+0100
TZNAME:CET
DTSTART:20251026T010000
END:STANDARD
BEGIN:DAYLIGHT
TZOFFSETFROM:+0100
TZOFFSETTO:+0200
TZNAME:CEST
DTSTART:20260329T010000
END:DAYLIGHT
BEGIN:STANDARD
TZOFFSETFROM:+0200
TZOFFSETTO:+0100
TZNAME:CET
DTSTART:20261025T010000
END:STANDARD
BEGIN:DAYLIGHT
TZOFFSETFROM:+0100
TZOFFSETTO:+0200
TZNAME:CEST
DTSTART:20270328T010000
END:DAYLIGHT
BEGIN:STANDARD
TZOFFSETFROM:+0200
TZOFFSETTO:+0100
TZNAME:CET
DTSTART:20271031T010000
END:STANDARD
END:VTIMEZONE
BEGIN:VEVENT
DTSTART;TZID=Europe/Brussels:20260303T133000
DTEND;TZID=Europe/Brussels:20260303T173000
DTSTAMP:20260423T101432
CREATED:20240925T142937Z
LAST-MODIFIED:20250313T071609Z
UID:10001417-1772544600-1772559000@buurtinfoquartier.be
SUMMARY:Pshychomotricité parents-enfants
DESCRIPTION:Sur inscription – gratuit \n\n\n\nContact: Astrid Galliot au 0484 81 55 85
URL:https://buurtinfoquartier.be/nl/agenda/pshychomotricite-parents-enfants/2026-03-03/
LOCATION:Maison des Parents\, rue Dupont 20\, Schaerbeek\, 1030\, Belgique
CATEGORIES:Activités
ATTACH;FMTTYPE=image/png:https://buurtinfoquartier.be/wp-content/uploads/2024/09/Pictos-GTa-info-13-e1727970744909.png
END:VEVENT
BEGIN:VEVENT
DTSTART;TZID=Europe/Brussels:20260303T100000
DTEND;TZID=Europe/Brussels:20260303T180000
DTSTAMP:20260423T101432
CREATED:20250313T143919Z
LAST-MODIFIED:20250701T123105Z
UID:10004626-1772532000-1772560800@buurtinfoquartier.be
SUMMARY:Espace Public Numérique Brabant
DESCRIPTION:Espace ouvert à tout le monde\, avec des ordinateurs\, internet etquelqu’un pour vous aider. Gratuit et sans rendez-vous. \n\n\n\nVoire l’affiche pour l’horraire des activités. Info : 0471 98 30 96 – EPN Brabant
URL:https://buurtinfoquartier.be/nl/agenda/espace-public-numerique-brabant/2026-03-03/
ATTACH;FMTTYPE=image/jpeg:https://buurtinfoquartier.be/wp-content/uploads/2025/03/EPN-OCR-Brabant_Affiche_JUIN-2025.jpg
END:VEVENT
BEGIN:VEVENT
DTSTART;TZID=Europe/Brussels:20260303T093000
DTEND;TZID=Europe/Brussels:20260303T120000
DTSTAMP:20260423T101432
CREATED:20250313T071118Z
LAST-MODIFIED:20250313T071120Z
UID:10000896-1772530200-1772539200@buurtinfoquartier.be
SUMMARY:Comité des femmes
DESCRIPTION:Echanges et rencontres entre femmes autour d’une activité ou un café. \n\n\n\nSur inscription – gratuit \n\n\n\nContact: Maud Verjus ou Nathalie Thomas au 02 218 56 08
URL:https://buurtinfoquartier.be/nl/agenda/comite-des-femmes-2/2026-03-03/
LOCATION:Maison des Parents\, rue Dupont 20\, Schaerbeek\, 1030\, Belgique
CATEGORIES:Activités
ATTACH;FMTTYPE=image/jpeg:https://buurtinfoquartier.be/wp-content/uploads/2024/09/Pictos-GTa-info-e1727970140216.jpg
END:VEVENT
BEGIN:VEVENT
DTSTART;TZID=Europe/Brussels:20260302T140000
DTEND;TZID=Europe/Brussels:20260302T160000
DTSTAMP:20260423T101432
CREATED:20251028T103056Z
LAST-MODIFIED:20251028T103100Z
UID:10005934-1772460000-1772467200@buurtinfoquartier.be
SUMMARY:Groupe Bag
DESCRIPTION:Atelier psychocorporel\, contes et art-thérapie pour femmes.
URL:https://buurtinfoquartier.be/nl/agenda/groupe-bag/2026-03-02/
LOCATION:Maison des Parents\, rue Dupont 20\, Schaerbeek\, 1030\, Belgique
CATEGORIES:Activités
ATTACH;FMTTYPE=image/jpeg:https://buurtinfoquartier.be/wp-content/uploads/2024/08/Logo-Atouts-Parents.jpg
END:VEVENT
BEGIN:VEVENT
DTSTART;TZID=Europe/Brussels:20260302T100000
DTEND;TZID=Europe/Brussels:20260302T180000
DTSTAMP:20260423T101432
CREATED:20250313T143919Z
LAST-MODIFIED:20250701T123105Z
UID:10004625-1772445600-1772474400@buurtinfoquartier.be
SUMMARY:Espace Public Numérique Brabant
DESCRIPTION:Espace ouvert à tout le monde\, avec des ordinateurs\, internet etquelqu’un pour vous aider. Gratuit et sans rendez-vous. \n\n\n\nVoire l’affiche pour l’horraire des activités. Info : 0471 98 30 96 – EPN Brabant
URL:https://buurtinfoquartier.be/nl/agenda/espace-public-numerique-brabant/2026-03-02/
ATTACH;FMTTYPE=image/jpeg:https://buurtinfoquartier.be/wp-content/uploads/2025/03/EPN-OCR-Brabant_Affiche_JUIN-2025.jpg
END:VEVENT
BEGIN:VEVENT
DTSTART;TZID=Europe/Brussels:20260302T090000
DTEND;TZID=Europe/Brussels:20260302T110000
DTSTAMP:20260423T101432
CREATED:20240925T141512Z
LAST-MODIFIED:20250313T070728Z
UID:10000635-1772442000-1772449200@buurtinfoquartier.be
SUMMARY:Café Papote des parents
DESCRIPTION:Pour prendre du temps pour soi et échanger avec d’autres parents. \n\n\n\nContact: Sonia de Clerck \n\n\n\n 
URL:https://buurtinfoquartier.be/nl/agenda/cafe-papote/2026-03-02/
LOCATION:Maison des Parents\, rue Dupont 20\, Schaerbeek\, 1030\, Belgique
CATEGORIES:Activités
ATTACH;FMTTYPE=image/png:https://buurtinfoquartier.be/wp-content/uploads/2024/09/Pictos-GTa-info-11.png
END:VEVENT
BEGIN:VEVENT
DTSTART;TZID=Europe/Brussels:20260301T140000
DTEND;TZID=Europe/Brussels:20260301T160000
DTSTAMP:20260423T101432
CREATED:20250307T130159Z
LAST-MODIFIED:20250313T070609Z
UID:10002540-1772373600-1772380800@buurtinfoquartier.be
SUMMARY:Aterliers Hiphop
DESCRIPTION:Cours de Breakdance\, graffiti\, rap\, beatbox… C’est gratuit. \n\n\n\nTous les samedis et dimanches de 14h à 16h.
URL:https://buurtinfoquartier.be/nl/agenda/aterliers-hiphop/2026-03-01/
LOCATION:TRACK\, Rue du Progrès 76\, Schaerbeek\, 1030\, Belgique
ATTACH;FMTTYPE=image/jpeg:https://buurtinfoquartier.be/wp-content/uploads/2025/03/Visuel-HHS-2025.TRACK-photo.jpg
END:VEVENT
BEGIN:VEVENT
DTSTART;TZID=Europe/Brussels:20260228T140000
DTEND;TZID=Europe/Brussels:20260228T160000
DTSTAMP:20260423T101432
CREATED:20250307T130159Z
LAST-MODIFIED:20250313T070609Z
UID:10002539-1772287200-1772294400@buurtinfoquartier.be
SUMMARY:Aterliers Hiphop
DESCRIPTION:Cours de Breakdance\, graffiti\, rap\, beatbox… C’est gratuit. \n\n\n\nTous les samedis et dimanches de 14h à 16h.
URL:https://buurtinfoquartier.be/nl/agenda/aterliers-hiphop/2026-02-28/
LOCATION:TRACK\, Rue du Progrès 76\, Schaerbeek\, 1030\, Belgique
ATTACH;FMTTYPE=image/jpeg:https://buurtinfoquartier.be/wp-content/uploads/2025/03/Visuel-HHS-2025.TRACK-photo.jpg
END:VEVENT
BEGIN:VEVENT
DTSTART;TZID=Europe/Brussels:20260227T150000
DTEND;TZID=Europe/Brussels:20260227T170000
DTSTAMP:20260423T101432
CREATED:20251028T105634Z
LAST-MODIFIED:20251028T105636Z
UID:10006344-1772204400-1772211600@buurtinfoquartier.be
SUMMARY:Bibliothèque et ludothèque
DESCRIPTION:Venez découvrir 165 jeux pour tous les âges\, de 0 à 99 ans\, ainsi qu’une sélection de livres pour les enfants de 2\,5 à 12 ans\, et quelques ouvrages pour les adolescents. Emprunter des jeux et des livres ou simplement lire et jouer sur place\, c’est à vous de choisir !
URL:https://buurtinfoquartier.be/nl/agenda/bibliotheque-et-ludotheque-2/2026-02-27/
LOCATION:Maison des Parents\, rue Dupont 20\, Schaerbeek\, 1030\, Belgique
CATEGORIES:Activités
ATTACH;FMTTYPE=image/jpeg:https://buurtinfoquartier.be/wp-content/uploads/2025/10/Affiche-ludotheque-maison-des-parents-15.10.2025.jpg
END:VEVENT
BEGIN:VEVENT
DTSTART;TZID=Europe/Brussels:20260227T100000
DTEND;TZID=Europe/Brussels:20260227T180000
DTSTAMP:20260423T101432
CREATED:20250313T143919Z
LAST-MODIFIED:20250701T123105Z
UID:10004624-1772186400-1772215200@buurtinfoquartier.be
SUMMARY:Espace Public Numérique Brabant
DESCRIPTION:Espace ouvert à tout le monde\, avec des ordinateurs\, internet etquelqu’un pour vous aider. Gratuit et sans rendez-vous. \n\n\n\nVoire l’affiche pour l’horraire des activités. Info : 0471 98 30 96 – EPN Brabant
URL:https://buurtinfoquartier.be/nl/agenda/espace-public-numerique-brabant/2026-02-27/
ATTACH;FMTTYPE=image/jpeg:https://buurtinfoquartier.be/wp-content/uploads/2025/03/EPN-OCR-Brabant_Affiche_JUIN-2025.jpg
END:VEVENT
BEGIN:VEVENT
DTSTART;TZID=Europe/Brussels:20260226T160000
DTEND;TZID=Europe/Brussels:20260226T180000
DTSTAMP:20260423T101432
CREATED:20251028T103452Z
LAST-MODIFIED:20251028T103455Z
UID:10006243-1772121600-1772128800@buurtinfoquartier.be
SUMMARY:Les Pâtes au Beurre
DESCRIPTION:Un lieu de parole et de partage collectif anonyme\, sans rendez-vous pour des parents avec enfants sans limite d’âge. Encadré par des psychologues\, psychomotricienne.
URL:https://buurtinfoquartier.be/nl/agenda/les-pates-au-beurre-3/2026-02-26/
LOCATION:Maison des Parents\, rue Dupont 20\, Schaerbeek\, 1030\, Belgique
CATEGORIES:Activités
ATTACH;FMTTYPE=image/jpeg:https://buurtinfoquartier.be/wp-content/uploads/2025/10/Logo-Les-Pates-au-Beurre.jpg
END:VEVENT
BEGIN:VEVENT
DTSTART;TZID=Europe/Brussels:20260226T100000
DTEND;TZID=Europe/Brussels:20260226T180000
DTSTAMP:20260423T101432
CREATED:20250313T143919Z
LAST-MODIFIED:20250701T123105Z
UID:10004623-1772100000-1772128800@buurtinfoquartier.be
SUMMARY:Espace Public Numérique Brabant
DESCRIPTION:Espace ouvert à tout le monde\, avec des ordinateurs\, internet etquelqu’un pour vous aider. Gratuit et sans rendez-vous. \n\n\n\nVoire l’affiche pour l’horraire des activités. Info : 0471 98 30 96 – EPN Brabant
URL:https://buurtinfoquartier.be/nl/agenda/espace-public-numerique-brabant/2026-02-26/
ATTACH;FMTTYPE=image/jpeg:https://buurtinfoquartier.be/wp-content/uploads/2025/03/EPN-OCR-Brabant_Affiche_JUIN-2025.jpg
END:VEVENT
BEGIN:VEVENT
DTSTART;TZID=Europe/Brussels:20260225T153000
DTEND;TZID=Europe/Brussels:20260225T170000
DTSTAMP:20260423T101432
CREATED:20251028T105351Z
LAST-MODIFIED:20251028T105355Z
UID:10006295-1772033400-1772038800@buurtinfoquartier.be
SUMMARY:Bibliothèque et ludothèque
DESCRIPTION:Venez découvrir 165 jeux pour tous les âges\, de 0 à 99 ans\, ainsi qu’une sélection de livres pour les enfants de 2\,5 à 12 ans\, et quelques ouvrages pour les adolescents. Emprunter des jeux et des livres ou simplement lire et jouer sur place\, c’est à vous de choisir !
URL:https://buurtinfoquartier.be/nl/agenda/bibliotheque-et-ludotheque/2026-02-25/
LOCATION:Maison des Parents\, rue Dupont 20\, Schaerbeek\, 1030\, Belgique
CATEGORIES:Activités
ATTACH;FMTTYPE=image/jpeg:https://buurtinfoquartier.be/wp-content/uploads/2025/10/Affiche-ludotheque-maison-des-parents-15.10.2025.jpg
END:VEVENT
BEGIN:VEVENT
DTSTART;TZID=Europe/Brussels:20260225T130000
DTEND;TZID=Europe/Brussels:20260225T170000
DTSTAMP:20260423T101432
CREATED:20250109T125127Z
LAST-MODIFIED:20251110T083746Z
UID:10002222-1772024400-1772038800@buurtinfoquartier.be
SUMMARY:Activités enfants 6-12 ans
DESCRIPTION:Activité accueil temps libre pour les enfants de 6 à 12 ans. Inscription obligatoire. \n\n\n\nOrganisé par l’ASBL Avenir
URL:https://buurtinfoquartier.be/nl/agenda/activite-enfant-6-12-ans/2026-02-25/
LOCATION:Rue du Moulin\, 150\, 1210 Saint-Josse-ten-Noode\, Rue du Moulin\, 150\, Saint-Josse-ten-Noode\, 1210\, Belgique
CATEGORIES:Activités
ATTACH;FMTTYPE=image/jpeg:https://buurtinfoquartier.be/wp-content/uploads/2025/01/masque1.jpg
END:VEVENT
BEGIN:VEVENT
DTSTART;TZID=Europe/Brussels:20260225T100000
DTEND;TZID=Europe/Brussels:20260225T180000
DTSTAMP:20260423T101432
CREATED:20250313T143919Z
LAST-MODIFIED:20250701T123105Z
UID:10004622-1772013600-1772042400@buurtinfoquartier.be
SUMMARY:Espace Public Numérique Brabant
DESCRIPTION:Espace ouvert à tout le monde\, avec des ordinateurs\, internet etquelqu’un pour vous aider. Gratuit et sans rendez-vous. \n\n\n\nVoire l’affiche pour l’horraire des activités. Info : 0471 98 30 96 – EPN Brabant
URL:https://buurtinfoquartier.be/nl/agenda/espace-public-numerique-brabant/2026-02-25/
ATTACH;FMTTYPE=image/jpeg:https://buurtinfoquartier.be/wp-content/uploads/2025/03/EPN-OCR-Brabant_Affiche_JUIN-2025.jpg
END:VEVENT
BEGIN:VEVENT
DTSTART;TZID=Europe/Brussels:20260225T093000
DTEND;TZID=Europe/Brussels:20260225T113000
DTSTAMP:20260423T101432
CREATED:20251028T103210Z
LAST-MODIFIED:20251028T103213Z
UID:10006194-1772011800-1772019000@buurtinfoquartier.be
SUMMARY:Les Pâtes au Beurre
DESCRIPTION:Un lieu de parole et de partage collectif anonyme\, sans rendez-vous pour des parents avec enfants sans limite d’âge. Encadré par des psychologues\, psychomotricienne.
URL:https://buurtinfoquartier.be/nl/agenda/les-pates-au-beurre-2/2026-02-25/
LOCATION:Maison des Parents\, rue Dupont 20\, Schaerbeek\, 1030\, Belgique
CATEGORIES:Activités
ATTACH;FMTTYPE=image/jpeg:https://buurtinfoquartier.be/wp-content/uploads/2025/10/Logo-Les-Pates-au-Beurre.jpg
END:VEVENT
BEGIN:VEVENT
DTSTART;TZID=Europe/Brussels:20260224T133000
DTEND;TZID=Europe/Brussels:20260224T173000
DTSTAMP:20260423T101432
CREATED:20240925T142937Z
LAST-MODIFIED:20250313T071609Z
UID:10001416-1771939800-1771954200@buurtinfoquartier.be
SUMMARY:Pshychomotricité parents-enfants
DESCRIPTION:Sur inscription – gratuit \n\n\n\nContact: Astrid Galliot au 0484 81 55 85
URL:https://buurtinfoquartier.be/nl/agenda/pshychomotricite-parents-enfants/2026-02-24/
LOCATION:Maison des Parents\, rue Dupont 20\, Schaerbeek\, 1030\, Belgique
CATEGORIES:Activités
ATTACH;FMTTYPE=image/png:https://buurtinfoquartier.be/wp-content/uploads/2024/09/Pictos-GTa-info-13-e1727970744909.png
END:VEVENT
BEGIN:VEVENT
DTSTART;TZID=Europe/Brussels:20260224T100000
DTEND;TZID=Europe/Brussels:20260224T180000
DTSTAMP:20260423T101432
CREATED:20250313T143919Z
LAST-MODIFIED:20250701T123105Z
UID:10004621-1771927200-1771956000@buurtinfoquartier.be
SUMMARY:Espace Public Numérique Brabant
DESCRIPTION:Espace ouvert à tout le monde\, avec des ordinateurs\, internet etquelqu’un pour vous aider. Gratuit et sans rendez-vous. \n\n\n\nVoire l’affiche pour l’horraire des activités. Info : 0471 98 30 96 – EPN Brabant
URL:https://buurtinfoquartier.be/nl/agenda/espace-public-numerique-brabant/2026-02-24/
ATTACH;FMTTYPE=image/jpeg:https://buurtinfoquartier.be/wp-content/uploads/2025/03/EPN-OCR-Brabant_Affiche_JUIN-2025.jpg
END:VEVENT
BEGIN:VEVENT
DTSTART;TZID=Europe/Brussels:20260224T093000
DTEND;TZID=Europe/Brussels:20260224T120000
DTSTAMP:20260423T101432
CREATED:20250313T071118Z
LAST-MODIFIED:20250313T071120Z
UID:10000895-1771925400-1771934400@buurtinfoquartier.be
SUMMARY:Comité des femmes
DESCRIPTION:Echanges et rencontres entre femmes autour d’une activité ou un café. \n\n\n\nSur inscription – gratuit \n\n\n\nContact: Maud Verjus ou Nathalie Thomas au 02 218 56 08
URL:https://buurtinfoquartier.be/nl/agenda/comite-des-femmes-2/2026-02-24/
LOCATION:Maison des Parents\, rue Dupont 20\, Schaerbeek\, 1030\, Belgique
CATEGORIES:Activités
ATTACH;FMTTYPE=image/jpeg:https://buurtinfoquartier.be/wp-content/uploads/2024/09/Pictos-GTa-info-e1727970140216.jpg
END:VEVENT
BEGIN:VEVENT
DTSTART;TZID=Europe/Brussels:20260223T140000
DTEND;TZID=Europe/Brussels:20260223T160000
DTSTAMP:20260423T101432
CREATED:20251028T103056Z
LAST-MODIFIED:20251028T103100Z
UID:10005933-1771855200-1771862400@buurtinfoquartier.be
SUMMARY:Groupe Bag
DESCRIPTION:Atelier psychocorporel\, contes et art-thérapie pour femmes.
URL:https://buurtinfoquartier.be/nl/agenda/groupe-bag/2026-02-23/
LOCATION:Maison des Parents\, rue Dupont 20\, Schaerbeek\, 1030\, Belgique
CATEGORIES:Activités
ATTACH;FMTTYPE=image/jpeg:https://buurtinfoquartier.be/wp-content/uploads/2024/08/Logo-Atouts-Parents.jpg
END:VEVENT
BEGIN:VEVENT
DTSTART;TZID=Europe/Brussels:20260223T100000
DTEND;TZID=Europe/Brussels:20260223T180000
DTSTAMP:20260423T101432
CREATED:20250313T143919Z
LAST-MODIFIED:20250701T123105Z
UID:10004620-1771840800-1771869600@buurtinfoquartier.be
SUMMARY:Espace Public Numérique Brabant
DESCRIPTION:Espace ouvert à tout le monde\, avec des ordinateurs\, internet etquelqu’un pour vous aider. Gratuit et sans rendez-vous. \n\n\n\nVoire l’affiche pour l’horraire des activités. Info : 0471 98 30 96 – EPN Brabant
URL:https://buurtinfoquartier.be/nl/agenda/espace-public-numerique-brabant/2026-02-23/
ATTACH;FMTTYPE=image/jpeg:https://buurtinfoquartier.be/wp-content/uploads/2025/03/EPN-OCR-Brabant_Affiche_JUIN-2025.jpg
END:VEVENT
BEGIN:VEVENT
DTSTART;TZID=Europe/Brussels:20260223T090000
DTEND;TZID=Europe/Brussels:20260223T110000
DTSTAMP:20260423T101432
CREATED:20240925T141512Z
LAST-MODIFIED:20250313T070728Z
UID:10000634-1771837200-1771844400@buurtinfoquartier.be
SUMMARY:Café Papote des parents
DESCRIPTION:Pour prendre du temps pour soi et échanger avec d’autres parents. \n\n\n\nContact: Sonia de Clerck \n\n\n\n 
URL:https://buurtinfoquartier.be/nl/agenda/cafe-papote/2026-02-23/
LOCATION:Maison des Parents\, rue Dupont 20\, Schaerbeek\, 1030\, Belgique
CATEGORIES:Activités
ATTACH;FMTTYPE=image/png:https://buurtinfoquartier.be/wp-content/uploads/2024/09/Pictos-GTa-info-11.png
END:VEVENT
BEGIN:VEVENT
DTSTART;TZID=Europe/Brussels:20260222T140000
DTEND;TZID=Europe/Brussels:20260222T160000
DTSTAMP:20260423T101432
CREATED:20250307T130159Z
LAST-MODIFIED:20250313T070609Z
UID:10002538-1771768800-1771776000@buurtinfoquartier.be
SUMMARY:Aterliers Hiphop
DESCRIPTION:Cours de Breakdance\, graffiti\, rap\, beatbox… C’est gratuit. \n\n\n\nTous les samedis et dimanches de 14h à 16h.
URL:https://buurtinfoquartier.be/nl/agenda/aterliers-hiphop/2026-02-22/
LOCATION:TRACK\, Rue du Progrès 76\, Schaerbeek\, 1030\, Belgique
ATTACH;FMTTYPE=image/jpeg:https://buurtinfoquartier.be/wp-content/uploads/2025/03/Visuel-HHS-2025.TRACK-photo.jpg
END:VEVENT
BEGIN:VEVENT
DTSTART;TZID=Europe/Brussels:20260221T140000
DTEND;TZID=Europe/Brussels:20260221T160000
DTSTAMP:20260423T101432
CREATED:20250307T130159Z
LAST-MODIFIED:20250313T070609Z
UID:10002537-1771682400-1771689600@buurtinfoquartier.be
SUMMARY:Aterliers Hiphop
DESCRIPTION:Cours de Breakdance\, graffiti\, rap\, beatbox… C’est gratuit. \n\n\n\nTous les samedis et dimanches de 14h à 16h.
URL:https://buurtinfoquartier.be/nl/agenda/aterliers-hiphop/2026-02-21/
LOCATION:TRACK\, Rue du Progrès 76\, Schaerbeek\, 1030\, Belgique
ATTACH;FMTTYPE=image/jpeg:https://buurtinfoquartier.be/wp-content/uploads/2025/03/Visuel-HHS-2025.TRACK-photo.jpg
END:VEVENT
BEGIN:VEVENT
DTSTART;TZID=Europe/Brussels:20260220T150000
DTEND;TZID=Europe/Brussels:20260220T170000
DTSTAMP:20260423T101432
CREATED:20251028T105634Z
LAST-MODIFIED:20251028T105636Z
UID:10006343-1771599600-1771606800@buurtinfoquartier.be
SUMMARY:Bibliothèque et ludothèque
DESCRIPTION:Venez découvrir 165 jeux pour tous les âges\, de 0 à 99 ans\, ainsi qu’une sélection de livres pour les enfants de 2\,5 à 12 ans\, et quelques ouvrages pour les adolescents. Emprunter des jeux et des livres ou simplement lire et jouer sur place\, c’est à vous de choisir !
URL:https://buurtinfoquartier.be/nl/agenda/bibliotheque-et-ludotheque-2/2026-02-20/
LOCATION:Maison des Parents\, rue Dupont 20\, Schaerbeek\, 1030\, Belgique
CATEGORIES:Activités
ATTACH;FMTTYPE=image/jpeg:https://buurtinfoquartier.be/wp-content/uploads/2025/10/Affiche-ludotheque-maison-des-parents-15.10.2025.jpg
END:VEVENT
BEGIN:VEVENT
DTSTART;TZID=Europe/Brussels:20260220T100000
DTEND;TZID=Europe/Brussels:20260220T180000
DTSTAMP:20260423T101432
CREATED:20250313T143919Z
LAST-MODIFIED:20250701T123105Z
UID:10004619-1771581600-1771610400@buurtinfoquartier.be
SUMMARY:Espace Public Numérique Brabant
DESCRIPTION:Espace ouvert à tout le monde\, avec des ordinateurs\, internet etquelqu’un pour vous aider. Gratuit et sans rendez-vous. \n\n\n\nVoire l’affiche pour l’horraire des activités. Info : 0471 98 30 96 – EPN Brabant
URL:https://buurtinfoquartier.be/nl/agenda/espace-public-numerique-brabant/2026-02-20/
ATTACH;FMTTYPE=image/jpeg:https://buurtinfoquartier.be/wp-content/uploads/2025/03/EPN-OCR-Brabant_Affiche_JUIN-2025.jpg
END:VEVENT
BEGIN:VEVENT
DTSTART;TZID=Europe/Brussels:20260219T160000
DTEND;TZID=Europe/Brussels:20260219T180000
DTSTAMP:20260423T101432
CREATED:20251028T103452Z
LAST-MODIFIED:20251028T103455Z
UID:10006242-1771516800-1771524000@buurtinfoquartier.be
SUMMARY:Les Pâtes au Beurre
DESCRIPTION:Un lieu de parole et de partage collectif anonyme\, sans rendez-vous pour des parents avec enfants sans limite d’âge. Encadré par des psychologues\, psychomotricienne.
URL:https://buurtinfoquartier.be/nl/agenda/les-pates-au-beurre-3/2026-02-19/
LOCATION:Maison des Parents\, rue Dupont 20\, Schaerbeek\, 1030\, Belgique
CATEGORIES:Activités
ATTACH;FMTTYPE=image/jpeg:https://buurtinfoquartier.be/wp-content/uploads/2025/10/Logo-Les-Pates-au-Beurre.jpg
END:VEVENT
BEGIN:VEVENT
DTSTART;TZID=Europe/Brussels:20260219T100000
DTEND;TZID=Europe/Brussels:20260219T180000
DTSTAMP:20260423T101432
CREATED:20250313T143919Z
LAST-MODIFIED:20250701T123105Z
UID:10004618-1771495200-1771524000@buurtinfoquartier.be
SUMMARY:Espace Public Numérique Brabant
DESCRIPTION:Espace ouvert à tout le monde\, avec des ordinateurs\, internet etquelqu’un pour vous aider. Gratuit et sans rendez-vous. \n\n\n\nVoire l’affiche pour l’horraire des activités. Info : 0471 98 30 96 – EPN Brabant
URL:https://buurtinfoquartier.be/nl/agenda/espace-public-numerique-brabant/2026-02-19/
ATTACH;FMTTYPE=image/jpeg:https://buurtinfoquartier.be/wp-content/uploads/2025/03/EPN-OCR-Brabant_Affiche_JUIN-2025.jpg
END:VEVENT
BEGIN:VEVENT
DTSTART;TZID=Europe/Brussels:20260218T153000
DTEND;TZID=Europe/Brussels:20260218T170000
DTSTAMP:20260423T101432
CREATED:20251028T105351Z
LAST-MODIFIED:20251028T105355Z
UID:10006294-1771428600-1771434000@buurtinfoquartier.be
SUMMARY:Bibliothèque et ludothèque
DESCRIPTION:Venez découvrir 165 jeux pour tous les âges\, de 0 à 99 ans\, ainsi qu’une sélection de livres pour les enfants de 2\,5 à 12 ans\, et quelques ouvrages pour les adolescents. Emprunter des jeux et des livres ou simplement lire et jouer sur place\, c’est à vous de choisir !
URL:https://buurtinfoquartier.be/nl/agenda/bibliotheque-et-ludotheque/2026-02-18/
LOCATION:Maison des Parents\, rue Dupont 20\, Schaerbeek\, 1030\, Belgique
CATEGORIES:Activités
ATTACH;FMTTYPE=image/jpeg:https://buurtinfoquartier.be/wp-content/uploads/2025/10/Affiche-ludotheque-maison-des-parents-15.10.2025.jpg
END:VEVENT
BEGIN:VEVENT
DTSTART;TZID=Europe/Brussels:20260218T130000
DTEND;TZID=Europe/Brussels:20260218T170000
DTSTAMP:20260423T101432
CREATED:20250109T125127Z
LAST-MODIFIED:20251110T083746Z
UID:10002221-1771419600-1771434000@buurtinfoquartier.be
SUMMARY:Activités enfants 6-12 ans
DESCRIPTION:Activité accueil temps libre pour les enfants de 6 à 12 ans. Inscription obligatoire. \n\n\n\nOrganisé par l’ASBL Avenir
URL:https://buurtinfoquartier.be/nl/agenda/activite-enfant-6-12-ans/2026-02-18/
LOCATION:Rue du Moulin\, 150\, 1210 Saint-Josse-ten-Noode\, Rue du Moulin\, 150\, Saint-Josse-ten-Noode\, 1210\, Belgique
CATEGORIES:Activités
ATTACH;FMTTYPE=image/jpeg:https://buurtinfoquartier.be/wp-content/uploads/2025/01/masque1.jpg
END:VEVENT
END:VCALENDAR