BEGIN:VCALENDAR
VERSION:2.0
PRODID:-//Quartier Brabant Buurt - ECPv6.15.20//NONSGML v1.0//EN
CALSCALE:GREGORIAN
METHOD:PUBLISH
X-WR-CALNAME:Quartier Brabant Buurt
X-ORIGINAL-URL:https://buurtinfoquartier.be
X-WR-CALDESC:Évènements pour Quartier Brabant Buurt
REFRESH-INTERVAL;VALUE=DURATION:PT1H
X-Robots-Tag:noindex
X-PUBLISHED-TTL:PT1H
BEGIN:VTIMEZONE
TZID:Europe/Brussels
BEGIN:DAYLIGHT
TZOFFSETFROM:+0100
TZOFFSETTO:+0200
TZNAME:CEST
DTSTART:20250330T010000
END:DAYLIGHT
BEGIN:STANDARD
TZOFFSETFROM:+0200
TZOFFSETTO:+0100
TZNAME:CET
DTSTART:20251026T010000
END:STANDARD
BEGIN:DAYLIGHT
TZOFFSETFROM:+0100
TZOFFSETTO:+0200
TZNAME:CEST
DTSTART:20260329T010000
END:DAYLIGHT
BEGIN:STANDARD
TZOFFSETFROM:+0200
TZOFFSETTO:+0100
TZNAME:CET
DTSTART:20261025T010000
END:STANDARD
BEGIN:DAYLIGHT
TZOFFSETFROM:+0100
TZOFFSETTO:+0200
TZNAME:CEST
DTSTART:20270328T010000
END:DAYLIGHT
BEGIN:STANDARD
TZOFFSETFROM:+0200
TZOFFSETTO:+0100
TZNAME:CET
DTSTART:20271031T010000
END:STANDARD
END:VTIMEZONE
BEGIN:VEVENT
DTSTART;TZID=Europe/Brussels:20261114T140000
DTEND;TZID=Europe/Brussels:20261114T160000
DTSTAMP:20260425T154935
CREATED:20250307T130159Z
LAST-MODIFIED:20250313T070609Z
UID:10002613-1794664800-1794672000@buurtinfoquartier.be
SUMMARY:Aterliers Hiphop
DESCRIPTION:Cours de Breakdance\, graffiti\, rap\, beatbox… C’est gratuit. \n\n\n\nTous les samedis et dimanches de 14h à 16h.
URL:https://buurtinfoquartier.be/agenda/aterliers-hiphop/2026-11-14/
LOCATION:TRACK\, Rue du Progrès 76\, Schaerbeek\, 1030\, Belgique
ATTACH;FMTTYPE=image/jpeg:https://buurtinfoquartier.be/wp-content/uploads/2025/03/Visuel-HHS-2025.TRACK-photo.jpg
END:VEVENT
BEGIN:VEVENT
DTSTART;TZID=Europe/Brussels:20261115T140000
DTEND;TZID=Europe/Brussels:20261115T160000
DTSTAMP:20260425T154935
CREATED:20250307T130159Z
LAST-MODIFIED:20250313T070609Z
UID:10002614-1794751200-1794758400@buurtinfoquartier.be
SUMMARY:Aterliers Hiphop
DESCRIPTION:Cours de Breakdance\, graffiti\, rap\, beatbox… C’est gratuit. \n\n\n\nTous les samedis et dimanches de 14h à 16h.
URL:https://buurtinfoquartier.be/agenda/aterliers-hiphop/2026-11-15/
LOCATION:TRACK\, Rue du Progrès 76\, Schaerbeek\, 1030\, Belgique
ATTACH;FMTTYPE=image/jpeg:https://buurtinfoquartier.be/wp-content/uploads/2025/03/Visuel-HHS-2025.TRACK-photo.jpg
END:VEVENT
BEGIN:VEVENT
DTSTART;TZID=Europe/Brussels:20261116T090000
DTEND;TZID=Europe/Brussels:20261116T110000
DTSTAMP:20260425T154935
CREATED:20240925T141512Z
LAST-MODIFIED:20250313T070728Z
UID:10000672-1794819600-1794826800@buurtinfoquartier.be
SUMMARY:Café Papote des parents
DESCRIPTION:Pour prendre du temps pour soi et échanger avec d’autres parents. \n\n\n\nContact: Sonia de Clerck \n\n\n\n 
URL:https://buurtinfoquartier.be/agenda/cafe-papote/2026-11-16/
LOCATION:Maison des Parents\, rue Dupont 20\, Schaerbeek\, 1030\, Belgique
CATEGORIES:Activités
ATTACH;FMTTYPE=image/png:https://buurtinfoquartier.be/wp-content/uploads/2024/09/Pictos-GTa-info-11.png
END:VEVENT
BEGIN:VEVENT
DTSTART;TZID=Europe/Brussels:20261116T090000
DTEND;TZID=Europe/Brussels:20261116T170000
DTSTAMP:20260425T154935
CREATED:20251017T091603Z
LAST-MODIFIED:20251017T091609Z
UID:10005821-1794819600-1794848400@buurtinfoquartier.be
SUMMARY:Ciné-Impact : s’exprimer\, créer\, se projeter
DESCRIPTION:Parcours de création audiovisuelle participative ouvert à toutes et tous (jeunes\, adultes\, femmes) sans prérequis techniques. Pendant six mois\, les participant.e.s seront accompagné.e.s dans toutes les étapes de réalisation d’un court-métrage : écriture\, tournage\, montage et diffusion. Le film\, ancré dans la réalité du quartier Brabant Nord à Schaerbeek\, sera projeté publiquement à l’automne 2026. \n\n\n\nContact / Informations : ceicrpasbl@gmail.com – +32 472 04 05 01 \n\n\n\nObjectif : Favoriser l’expression personnelle et collective\, renforcer le lien social et valoriser les habitant·e·s du quartier. \n\n\n\nPériode : septembre 2025 – avril 2026 \n\n\n\nLieu : Espace 58\, rue Dupont 58\, Schaerbeek \n\n\n\nOrganisé par : L’équipe 58 et Mobile – Travailleurs sociaux de rue\, en collaboration avec l’ASBL Studio 124
URL:https://buurtinfoquartier.be/agenda/cine-impact-sexprimer-creer-se-projeter/2026-11-16/
ATTACH;FMTTYPE=image/jpeg:https://buurtinfoquartier.be/wp-content/uploads/2025/03/Facade-TSR-58.jpg
END:VEVENT
BEGIN:VEVENT
DTSTART;TZID=Europe/Brussels:20261116T100000
DTEND;TZID=Europe/Brussels:20261116T180000
DTSTAMP:20260425T154935
CREATED:20250313T143919Z
LAST-MODIFIED:20250701T123105Z
UID:10004810-1794823200-1794852000@buurtinfoquartier.be
SUMMARY:Espace Public Numérique Brabant
DESCRIPTION:Espace ouvert à tout le monde\, avec des ordinateurs\, internet etquelqu’un pour vous aider. Gratuit et sans rendez-vous. \n\n\n\nVoire l’affiche pour l’horraire des activités. Info : 0471 98 30 96 – EPN Brabant
URL:https://buurtinfoquartier.be/agenda/espace-public-numerique-brabant/2026-11-16/
ATTACH;FMTTYPE=image/jpeg:https://buurtinfoquartier.be/wp-content/uploads/2025/03/EPN-OCR-Brabant_Affiche_JUIN-2025.jpg
END:VEVENT
BEGIN:VEVENT
DTSTART;TZID=Europe/Brussels:20261116T140000
DTEND;TZID=Europe/Brussels:20261116T160000
DTSTAMP:20260425T154935
CREATED:20251028T103056Z
LAST-MODIFIED:20251028T103100Z
UID:10005971-1794837600-1794844800@buurtinfoquartier.be
SUMMARY:Groupe Bag
DESCRIPTION:Atelier psychocorporel\, contes et art-thérapie pour femmes.
URL:https://buurtinfoquartier.be/agenda/groupe-bag/2026-11-16/
LOCATION:Maison des Parents\, rue Dupont 20\, Schaerbeek\, 1030\, Belgique
CATEGORIES:Activités
ATTACH;FMTTYPE=image/jpeg:https://buurtinfoquartier.be/wp-content/uploads/2024/08/Logo-Atouts-Parents.jpg
END:VEVENT
BEGIN:VEVENT
DTSTART;TZID=Europe/Brussels:20261117T093000
DTEND;TZID=Europe/Brussels:20261117T120000
DTSTAMP:20260425T154935
CREATED:20250313T071118Z
LAST-MODIFIED:20250313T071120Z
UID:10000933-1794907800-1794916800@buurtinfoquartier.be
SUMMARY:Comité des femmes
DESCRIPTION:Echanges et rencontres entre femmes autour d’une activité ou un café. \n\n\n\nSur inscription – gratuit \n\n\n\nContact: Maud Verjus ou Nathalie Thomas au 02 218 56 08
URL:https://buurtinfoquartier.be/agenda/comite-des-femmes-2/2026-11-17/
LOCATION:Maison des Parents\, rue Dupont 20\, Schaerbeek\, 1030\, Belgique
CATEGORIES:Activités
ATTACH;FMTTYPE=image/jpeg:https://buurtinfoquartier.be/wp-content/uploads/2024/09/Pictos-GTa-info-e1727970140216.jpg
END:VEVENT
BEGIN:VEVENT
DTSTART;TZID=Europe/Brussels:20261117T100000
DTEND;TZID=Europe/Brussels:20261117T180000
DTSTAMP:20260425T154935
CREATED:20250313T143919Z
LAST-MODIFIED:20250701T123105Z
UID:10004811-1794909600-1794938400@buurtinfoquartier.be
SUMMARY:Espace Public Numérique Brabant
DESCRIPTION:Espace ouvert à tout le monde\, avec des ordinateurs\, internet etquelqu’un pour vous aider. Gratuit et sans rendez-vous. \n\n\n\nVoire l’affiche pour l’horraire des activités. Info : 0471 98 30 96 – EPN Brabant
URL:https://buurtinfoquartier.be/agenda/espace-public-numerique-brabant/2026-11-17/
ATTACH;FMTTYPE=image/jpeg:https://buurtinfoquartier.be/wp-content/uploads/2025/03/EPN-OCR-Brabant_Affiche_JUIN-2025.jpg
END:VEVENT
BEGIN:VEVENT
DTSTART;TZID=Europe/Brussels:20261117T133000
DTEND;TZID=Europe/Brussels:20261117T173000
DTSTAMP:20260425T154935
CREATED:20240925T142937Z
LAST-MODIFIED:20250313T071609Z
UID:10001454-1794922200-1794936600@buurtinfoquartier.be
SUMMARY:Pshychomotricité parents-enfants
DESCRIPTION:Sur inscription – gratuit \n\n\n\nContact: Astrid Galliot au 0484 81 55 85
URL:https://buurtinfoquartier.be/agenda/pshychomotricite-parents-enfants/2026-11-17/
LOCATION:Maison des Parents\, rue Dupont 20\, Schaerbeek\, 1030\, Belgique
CATEGORIES:Activités
ATTACH;FMTTYPE=image/png:https://buurtinfoquartier.be/wp-content/uploads/2024/09/Pictos-GTa-info-13-e1727970744909.png
END:VEVENT
BEGIN:VEVENT
DTSTART;TZID=Europe/Brussels:20261118T100000
DTEND;TZID=Europe/Brussels:20261118T180000
DTSTAMP:20260425T154935
CREATED:20250313T143919Z
LAST-MODIFIED:20250701T123105Z
UID:10004812-1794996000-1795024800@buurtinfoquartier.be
SUMMARY:Espace Public Numérique Brabant
DESCRIPTION:Espace ouvert à tout le monde\, avec des ordinateurs\, internet etquelqu’un pour vous aider. Gratuit et sans rendez-vous. \n\n\n\nVoire l’affiche pour l’horraire des activités. Info : 0471 98 30 96 – EPN Brabant
URL:https://buurtinfoquartier.be/agenda/espace-public-numerique-brabant/2026-11-18/
ATTACH;FMTTYPE=image/jpeg:https://buurtinfoquartier.be/wp-content/uploads/2025/03/EPN-OCR-Brabant_Affiche_JUIN-2025.jpg
END:VEVENT
BEGIN:VEVENT
DTSTART;TZID=Europe/Brussels:20261118T130000
DTEND;TZID=Europe/Brussels:20261118T170000
DTSTAMP:20260425T154935
CREATED:20250109T125127Z
LAST-MODIFIED:20251110T083746Z
UID:10002260-1795006800-1795021200@buurtinfoquartier.be
SUMMARY:Activités enfants 6-12 ans
DESCRIPTION:Activité accueil temps libre pour les enfants de 6 à 12 ans. Inscription obligatoire. \n\n\n\nOrganisé par l’ASBL Avenir
URL:https://buurtinfoquartier.be/agenda/activite-enfant-6-12-ans/2026-11-18/
LOCATION:Rue du Moulin\, 150\, 1210 Saint-Josse-ten-Noode\, Rue du Moulin\, 150\, Saint-Josse-ten-Noode\, 1210\, Belgique
CATEGORIES:Activités
ATTACH;FMTTYPE=image/jpeg:https://buurtinfoquartier.be/wp-content/uploads/2025/01/masque1.jpg
END:VEVENT
BEGIN:VEVENT
DTSTART;TZID=Europe/Brussels:20261119T100000
DTEND;TZID=Europe/Brussels:20261119T180000
DTSTAMP:20260425T154935
CREATED:20250313T143919Z
LAST-MODIFIED:20250701T123105Z
UID:10004813-1795082400-1795111200@buurtinfoquartier.be
SUMMARY:Espace Public Numérique Brabant
DESCRIPTION:Espace ouvert à tout le monde\, avec des ordinateurs\, internet etquelqu’un pour vous aider. Gratuit et sans rendez-vous. \n\n\n\nVoire l’affiche pour l’horraire des activités. Info : 0471 98 30 96 – EPN Brabant
URL:https://buurtinfoquartier.be/agenda/espace-public-numerique-brabant/2026-11-19/
ATTACH;FMTTYPE=image/jpeg:https://buurtinfoquartier.be/wp-content/uploads/2025/03/EPN-OCR-Brabant_Affiche_JUIN-2025.jpg
END:VEVENT
BEGIN:VEVENT
DTSTART;TZID=Europe/Brussels:20261120T100000
DTEND;TZID=Europe/Brussels:20261120T180000
DTSTAMP:20260425T154935
CREATED:20250313T143919Z
LAST-MODIFIED:20250701T123105Z
UID:10004814-1795168800-1795197600@buurtinfoquartier.be
SUMMARY:Espace Public Numérique Brabant
DESCRIPTION:Espace ouvert à tout le monde\, avec des ordinateurs\, internet etquelqu’un pour vous aider. Gratuit et sans rendez-vous. \n\n\n\nVoire l’affiche pour l’horraire des activités. Info : 0471 98 30 96 – EPN Brabant
URL:https://buurtinfoquartier.be/agenda/espace-public-numerique-brabant/2026-11-20/
ATTACH;FMTTYPE=image/jpeg:https://buurtinfoquartier.be/wp-content/uploads/2025/03/EPN-OCR-Brabant_Affiche_JUIN-2025.jpg
END:VEVENT
BEGIN:VEVENT
DTSTART;TZID=Europe/Brussels:20261121T140000
DTEND;TZID=Europe/Brussels:20261121T160000
DTSTAMP:20260425T154935
CREATED:20250307T130159Z
LAST-MODIFIED:20250313T070609Z
UID:10002615-1795269600-1795276800@buurtinfoquartier.be
SUMMARY:Aterliers Hiphop
DESCRIPTION:Cours de Breakdance\, graffiti\, rap\, beatbox… C’est gratuit. \n\n\n\nTous les samedis et dimanches de 14h à 16h.
URL:https://buurtinfoquartier.be/agenda/aterliers-hiphop/2026-11-21/
LOCATION:TRACK\, Rue du Progrès 76\, Schaerbeek\, 1030\, Belgique
ATTACH;FMTTYPE=image/jpeg:https://buurtinfoquartier.be/wp-content/uploads/2025/03/Visuel-HHS-2025.TRACK-photo.jpg
END:VEVENT
BEGIN:VEVENT
DTSTART;TZID=Europe/Brussels:20261122T140000
DTEND;TZID=Europe/Brussels:20261122T160000
DTSTAMP:20260425T154935
CREATED:20250307T130159Z
LAST-MODIFIED:20250313T070609Z
UID:10002616-1795356000-1795363200@buurtinfoquartier.be
SUMMARY:Aterliers Hiphop
DESCRIPTION:Cours de Breakdance\, graffiti\, rap\, beatbox… C’est gratuit. \n\n\n\nTous les samedis et dimanches de 14h à 16h.
URL:https://buurtinfoquartier.be/agenda/aterliers-hiphop/2026-11-22/
LOCATION:TRACK\, Rue du Progrès 76\, Schaerbeek\, 1030\, Belgique
ATTACH;FMTTYPE=image/jpeg:https://buurtinfoquartier.be/wp-content/uploads/2025/03/Visuel-HHS-2025.TRACK-photo.jpg
END:VEVENT
BEGIN:VEVENT
DTSTART;TZID=Europe/Brussels:20261123T090000
DTEND;TZID=Europe/Brussels:20261123T110000
DTSTAMP:20260425T154935
CREATED:20240925T141512Z
LAST-MODIFIED:20250313T070728Z
UID:10000673-1795424400-1795431600@buurtinfoquartier.be
SUMMARY:Café Papote des parents
DESCRIPTION:Pour prendre du temps pour soi et échanger avec d’autres parents. \n\n\n\nContact: Sonia de Clerck \n\n\n\n 
URL:https://buurtinfoquartier.be/agenda/cafe-papote/2026-11-23/
LOCATION:Maison des Parents\, rue Dupont 20\, Schaerbeek\, 1030\, Belgique
CATEGORIES:Activités
ATTACH;FMTTYPE=image/png:https://buurtinfoquartier.be/wp-content/uploads/2024/09/Pictos-GTa-info-11.png
END:VEVENT
BEGIN:VEVENT
DTSTART;TZID=Europe/Brussels:20261123T100000
DTEND;TZID=Europe/Brussels:20261123T180000
DTSTAMP:20260425T154935
CREATED:20250313T143919Z
LAST-MODIFIED:20250701T123105Z
UID:10004815-1795428000-1795456800@buurtinfoquartier.be
SUMMARY:Espace Public Numérique Brabant
DESCRIPTION:Espace ouvert à tout le monde\, avec des ordinateurs\, internet etquelqu’un pour vous aider. Gratuit et sans rendez-vous. \n\n\n\nVoire l’affiche pour l’horraire des activités. Info : 0471 98 30 96 – EPN Brabant
URL:https://buurtinfoquartier.be/agenda/espace-public-numerique-brabant/2026-11-23/
ATTACH;FMTTYPE=image/jpeg:https://buurtinfoquartier.be/wp-content/uploads/2025/03/EPN-OCR-Brabant_Affiche_JUIN-2025.jpg
END:VEVENT
BEGIN:VEVENT
DTSTART;TZID=Europe/Brussels:20261123T140000
DTEND;TZID=Europe/Brussels:20261123T160000
DTSTAMP:20260425T154935
CREATED:20251028T103056Z
LAST-MODIFIED:20251028T103100Z
UID:10005972-1795442400-1795449600@buurtinfoquartier.be
SUMMARY:Groupe Bag
DESCRIPTION:Atelier psychocorporel\, contes et art-thérapie pour femmes.
URL:https://buurtinfoquartier.be/agenda/groupe-bag/2026-11-23/
LOCATION:Maison des Parents\, rue Dupont 20\, Schaerbeek\, 1030\, Belgique
CATEGORIES:Activités
ATTACH;FMTTYPE=image/jpeg:https://buurtinfoquartier.be/wp-content/uploads/2024/08/Logo-Atouts-Parents.jpg
END:VEVENT
BEGIN:VEVENT
DTSTART;TZID=Europe/Brussels:20261124T093000
DTEND;TZID=Europe/Brussels:20261124T120000
DTSTAMP:20260425T154935
CREATED:20250313T071118Z
LAST-MODIFIED:20250313T071120Z
UID:10000934-1795512600-1795521600@buurtinfoquartier.be
SUMMARY:Comité des femmes
DESCRIPTION:Echanges et rencontres entre femmes autour d’une activité ou un café. \n\n\n\nSur inscription – gratuit \n\n\n\nContact: Maud Verjus ou Nathalie Thomas au 02 218 56 08
URL:https://buurtinfoquartier.be/agenda/comite-des-femmes-2/2026-11-24/
LOCATION:Maison des Parents\, rue Dupont 20\, Schaerbeek\, 1030\, Belgique
CATEGORIES:Activités
ATTACH;FMTTYPE=image/jpeg:https://buurtinfoquartier.be/wp-content/uploads/2024/09/Pictos-GTa-info-e1727970140216.jpg
END:VEVENT
BEGIN:VEVENT
DTSTART;TZID=Europe/Brussels:20261124T100000
DTEND;TZID=Europe/Brussels:20261124T180000
DTSTAMP:20260425T154935
CREATED:20250313T143919Z
LAST-MODIFIED:20250701T123105Z
UID:10004816-1795514400-1795543200@buurtinfoquartier.be
SUMMARY:Espace Public Numérique Brabant
DESCRIPTION:Espace ouvert à tout le monde\, avec des ordinateurs\, internet etquelqu’un pour vous aider. Gratuit et sans rendez-vous. \n\n\n\nVoire l’affiche pour l’horraire des activités. Info : 0471 98 30 96 – EPN Brabant
URL:https://buurtinfoquartier.be/agenda/espace-public-numerique-brabant/2026-11-24/
ATTACH;FMTTYPE=image/jpeg:https://buurtinfoquartier.be/wp-content/uploads/2025/03/EPN-OCR-Brabant_Affiche_JUIN-2025.jpg
END:VEVENT
BEGIN:VEVENT
DTSTART;TZID=Europe/Brussels:20261124T133000
DTEND;TZID=Europe/Brussels:20261124T173000
DTSTAMP:20260425T154935
CREATED:20240925T142937Z
LAST-MODIFIED:20250313T071609Z
UID:10001455-1795527000-1795541400@buurtinfoquartier.be
SUMMARY:Pshychomotricité parents-enfants
DESCRIPTION:Sur inscription – gratuit \n\n\n\nContact: Astrid Galliot au 0484 81 55 85
URL:https://buurtinfoquartier.be/agenda/pshychomotricite-parents-enfants/2026-11-24/
LOCATION:Maison des Parents\, rue Dupont 20\, Schaerbeek\, 1030\, Belgique
CATEGORIES:Activités
ATTACH;FMTTYPE=image/png:https://buurtinfoquartier.be/wp-content/uploads/2024/09/Pictos-GTa-info-13-e1727970744909.png
END:VEVENT
BEGIN:VEVENT
DTSTART;TZID=Europe/Brussels:20261125T100000
DTEND;TZID=Europe/Brussels:20261125T180000
DTSTAMP:20260425T154935
CREATED:20250313T143919Z
LAST-MODIFIED:20250701T123105Z
UID:10004817-1795600800-1795629600@buurtinfoquartier.be
SUMMARY:Espace Public Numérique Brabant
DESCRIPTION:Espace ouvert à tout le monde\, avec des ordinateurs\, internet etquelqu’un pour vous aider. Gratuit et sans rendez-vous. \n\n\n\nVoire l’affiche pour l’horraire des activités. Info : 0471 98 30 96 – EPN Brabant
URL:https://buurtinfoquartier.be/agenda/espace-public-numerique-brabant/2026-11-25/
ATTACH;FMTTYPE=image/jpeg:https://buurtinfoquartier.be/wp-content/uploads/2025/03/EPN-OCR-Brabant_Affiche_JUIN-2025.jpg
END:VEVENT
BEGIN:VEVENT
DTSTART;TZID=Europe/Brussels:20261125T130000
DTEND;TZID=Europe/Brussels:20261125T170000
DTSTAMP:20260425T154935
CREATED:20250109T125127Z
LAST-MODIFIED:20251110T083746Z
UID:10002261-1795611600-1795626000@buurtinfoquartier.be
SUMMARY:Activités enfants 6-12 ans
DESCRIPTION:Activité accueil temps libre pour les enfants de 6 à 12 ans. Inscription obligatoire. \n\n\n\nOrganisé par l’ASBL Avenir
URL:https://buurtinfoquartier.be/agenda/activite-enfant-6-12-ans/2026-11-25/
LOCATION:Rue du Moulin\, 150\, 1210 Saint-Josse-ten-Noode\, Rue du Moulin\, 150\, Saint-Josse-ten-Noode\, 1210\, Belgique
CATEGORIES:Activités
ATTACH;FMTTYPE=image/jpeg:https://buurtinfoquartier.be/wp-content/uploads/2025/01/masque1.jpg
END:VEVENT
BEGIN:VEVENT
DTSTART;TZID=Europe/Brussels:20261126T100000
DTEND;TZID=Europe/Brussels:20261126T180000
DTSTAMP:20260425T154935
CREATED:20250313T143919Z
LAST-MODIFIED:20250701T123105Z
UID:10004818-1795687200-1795716000@buurtinfoquartier.be
SUMMARY:Espace Public Numérique Brabant
DESCRIPTION:Espace ouvert à tout le monde\, avec des ordinateurs\, internet etquelqu’un pour vous aider. Gratuit et sans rendez-vous. \n\n\n\nVoire l’affiche pour l’horraire des activités. Info : 0471 98 30 96 – EPN Brabant
URL:https://buurtinfoquartier.be/agenda/espace-public-numerique-brabant/2026-11-26/
ATTACH;FMTTYPE=image/jpeg:https://buurtinfoquartier.be/wp-content/uploads/2025/03/EPN-OCR-Brabant_Affiche_JUIN-2025.jpg
END:VEVENT
BEGIN:VEVENT
DTSTART;TZID=Europe/Brussels:20261127T100000
DTEND;TZID=Europe/Brussels:20261127T180000
DTSTAMP:20260425T154935
CREATED:20250313T143919Z
LAST-MODIFIED:20250701T123105Z
UID:10004819-1795773600-1795802400@buurtinfoquartier.be
SUMMARY:Espace Public Numérique Brabant
DESCRIPTION:Espace ouvert à tout le monde\, avec des ordinateurs\, internet etquelqu’un pour vous aider. Gratuit et sans rendez-vous. \n\n\n\nVoire l’affiche pour l’horraire des activités. Info : 0471 98 30 96 – EPN Brabant
URL:https://buurtinfoquartier.be/agenda/espace-public-numerique-brabant/2026-11-27/
ATTACH;FMTTYPE=image/jpeg:https://buurtinfoquartier.be/wp-content/uploads/2025/03/EPN-OCR-Brabant_Affiche_JUIN-2025.jpg
END:VEVENT
BEGIN:VEVENT
DTSTART;TZID=Europe/Brussels:20261128T140000
DTEND;TZID=Europe/Brussels:20261128T160000
DTSTAMP:20260425T154935
CREATED:20250307T130159Z
LAST-MODIFIED:20250313T070609Z
UID:10002617-1795874400-1795881600@buurtinfoquartier.be
SUMMARY:Aterliers Hiphop
DESCRIPTION:Cours de Breakdance\, graffiti\, rap\, beatbox… C’est gratuit. \n\n\n\nTous les samedis et dimanches de 14h à 16h.
URL:https://buurtinfoquartier.be/agenda/aterliers-hiphop/2026-11-28/
LOCATION:TRACK\, Rue du Progrès 76\, Schaerbeek\, 1030\, Belgique
ATTACH;FMTTYPE=image/jpeg:https://buurtinfoquartier.be/wp-content/uploads/2025/03/Visuel-HHS-2025.TRACK-photo.jpg
END:VEVENT
BEGIN:VEVENT
DTSTART;TZID=Europe/Brussels:20261129T140000
DTEND;TZID=Europe/Brussels:20261129T160000
DTSTAMP:20260425T154935
CREATED:20250307T130159Z
LAST-MODIFIED:20250313T070609Z
UID:10002618-1795960800-1795968000@buurtinfoquartier.be
SUMMARY:Aterliers Hiphop
DESCRIPTION:Cours de Breakdance\, graffiti\, rap\, beatbox… C’est gratuit. \n\n\n\nTous les samedis et dimanches de 14h à 16h.
URL:https://buurtinfoquartier.be/agenda/aterliers-hiphop/2026-11-29/
LOCATION:TRACK\, Rue du Progrès 76\, Schaerbeek\, 1030\, Belgique
ATTACH;FMTTYPE=image/jpeg:https://buurtinfoquartier.be/wp-content/uploads/2025/03/Visuel-HHS-2025.TRACK-photo.jpg
END:VEVENT
BEGIN:VEVENT
DTSTART;TZID=Europe/Brussels:20261130T090000
DTEND;TZID=Europe/Brussels:20261130T110000
DTSTAMP:20260425T154935
CREATED:20240925T141512Z
LAST-MODIFIED:20250313T070728Z
UID:10000674-1796029200-1796036400@buurtinfoquartier.be
SUMMARY:Café Papote des parents
DESCRIPTION:Pour prendre du temps pour soi et échanger avec d’autres parents. \n\n\n\nContact: Sonia de Clerck \n\n\n\n 
URL:https://buurtinfoquartier.be/agenda/cafe-papote/2026-11-30/
LOCATION:Maison des Parents\, rue Dupont 20\, Schaerbeek\, 1030\, Belgique
CATEGORIES:Activités
ATTACH;FMTTYPE=image/png:https://buurtinfoquartier.be/wp-content/uploads/2024/09/Pictos-GTa-info-11.png
END:VEVENT
BEGIN:VEVENT
DTSTART;TZID=Europe/Brussels:20261130T100000
DTEND;TZID=Europe/Brussels:20261130T180000
DTSTAMP:20260425T154935
CREATED:20250313T143919Z
LAST-MODIFIED:20250701T123105Z
UID:10004820-1796032800-1796061600@buurtinfoquartier.be
SUMMARY:Espace Public Numérique Brabant
DESCRIPTION:Espace ouvert à tout le monde\, avec des ordinateurs\, internet etquelqu’un pour vous aider. Gratuit et sans rendez-vous. \n\n\n\nVoire l’affiche pour l’horraire des activités. Info : 0471 98 30 96 – EPN Brabant
URL:https://buurtinfoquartier.be/agenda/espace-public-numerique-brabant/2026-11-30/
ATTACH;FMTTYPE=image/jpeg:https://buurtinfoquartier.be/wp-content/uploads/2025/03/EPN-OCR-Brabant_Affiche_JUIN-2025.jpg
END:VEVENT
BEGIN:VEVENT
DTSTART;TZID=Europe/Brussels:20261130T140000
DTEND;TZID=Europe/Brussels:20261130T160000
DTSTAMP:20260425T154935
CREATED:20251028T103056Z
LAST-MODIFIED:20251028T103100Z
UID:10005973-1796047200-1796054400@buurtinfoquartier.be
SUMMARY:Groupe Bag
DESCRIPTION:Atelier psychocorporel\, contes et art-thérapie pour femmes.
URL:https://buurtinfoquartier.be/agenda/groupe-bag/2026-11-30/
LOCATION:Maison des Parents\, rue Dupont 20\, Schaerbeek\, 1030\, Belgique
CATEGORIES:Activités
ATTACH;FMTTYPE=image/jpeg:https://buurtinfoquartier.be/wp-content/uploads/2024/08/Logo-Atouts-Parents.jpg
END:VEVENT
END:VCALENDAR